BEGIN:VCALENDAR
PRODID:NingEventWidget-v1
VERSION:2.0
METHOD:PUBLISH
BEGIN:VTIMEZONE
TZID:Europe/Paris
X-LIC-LOCATION:Europe/Paris
BEGIN:DAYLIGHT
TZOFFSETFROM:+0100
TZOFFSETTO:+0200
TZNAME:CEST
DTSTART:19700329T020000
RRULE:FREQ=YEARLY;BYMONTH=3;BYDAY=-1SU
END:DAYLIGHT
BEGIN:STANDARD
TZOFFSETFROM:+0200
TZOFFSETTO:+0100
TZNAME:CET
DTSTART:19701025T030000
RRULE:FREQ=YEARLY;BYMONTH=10;BYDAY=-1SU
END:STANDARD
END:VTIMEZONE
BEGIN:VEVENT
UID:2485226:Event:2291088
DTSTAMP:20260423T034429Z
SUMMARY:Ateliers nos vies enchantées : bonheur, biodanza, yoga du rir
 e
DESCRIPTION:Chloé, Sophie et Thierry vous invitent à venir prendre u
 n temps pour ré-enchanter votre vie et y faire grandir la joie, la fa
 ntaisie, l'amour … un temps pour recontacter tout ce qui pétille en
  vous et qui vous enchante ...\nUn joyeux mélange de psychologie posi
 tive, de danse et de yoga du rire pour donner de l'espace à votre enf
 ant intérieur… dans l'accueil bienveillant de toutes les parties de
  vous-mêmes…\nVenez comme vous êtes, avec simplement votre désir 
 d'être heureux, et ensemble, nous enchanterons le monde …\nRendez-v
 ous dimanche 19 avril, de 14h30 à 17h30.\nAu centre \"Le Jardin\" - 9
 99 avenue du Pont trinquat 34000 Montpellier\nPour plus d'informations
  : 06 72 61 48 66\nParticipation souhaitée : 25 € - Points JEU\n\nP
 our plus d'information, aller sur https://epanews.fr/events/ateliers-n
 os-vies-enchant-es-bonheur-biodanza-yoga-du-rire
DTSTART;TZID=Europe/Paris:20150419T143000
DTEND;TZID=Europe/Paris:20150419T173000
CATEGORIES:34
LOCATION:Montpellier
WEBSITE:https://www.facebook.com/events/444009989092502/
URL:https://www.facebook.com/events/444009989092502/
CONTACT:06 72 61 48 66
ORGANIZER:Sophie Van den Berghe, Thierry et Chloé
ATTACH;FMTTYPE="image/jpeg":http://storage.ning.com/topology/rest/1.0/
 file/get/1663371482?profile=original
ATTENDEE;ROLE=REQ-PARTICIPANT;PARTSTAT=ACCEPTED;RSVP=TRUE;CN="Sophie v
 db":https://epanews.fr/profile/Sophievdb
END:VEVENT
END:VCALENDAR
