BEGIN:VCALENDAR
PRODID:NingEventWidget-v1
VERSION:2.0
METHOD:PUBLISH
BEGIN:VTIMEZONE
TZID:Europe/Paris
X-LIC-LOCATION:Europe/Paris
BEGIN:DAYLIGHT
TZOFFSETFROM:+0100
TZOFFSETTO:+0200
TZNAME:CEST
DTSTART:19700329T020000
RRULE:FREQ=YEARLY;BYMONTH=3;BYDAY=-1SU
END:DAYLIGHT
BEGIN:STANDARD
TZOFFSETFROM:+0200
TZOFFSETTO:+0100
TZNAME:CET
DTSTART:19701025T030000
RRULE:FREQ=YEARLY;BYMONTH=10;BYDAY=-1SU
END:STANDARD
END:VTIMEZONE
BEGIN:VEVENT
UID:2485226:Event:1715972
DTSTAMP:20260423T120632Z
SUMMARY:Ateliers de formation au massage Ã  Lyon
DESCRIPTION:Ateliers pour apprendre les bases du massage bien-Ãªtre de
  dÃ©tente\n\nAttention : l'horaire indiquÃ© pour l'atelier du 16 janvi
 er (en fin de journÃ©e, car aprÃ¨s les heures de travail) n'est pas en
 core dÃ©fini prÃ©cisÃ©ment, car s'adaptera en fonction des participant
 s !\n * Objectif : acquÃ©rir (sans certification) les gestes de base d
 'un massage bien-Ãªtre sur tout le corps, Ã  l'huile, avec des mouveme
 nts diversifiÃ©s, sans stress de ne plus savoir quoi faire. Par la sui
 te chacun pourra personnaliser sa technique.\n* Structure : peu de par
 ticipants dans le groupe permet un enseignement personnalisÃ©, donc pe
 rformant.\nIdÃ©alement, groupe \"fermÃ©\" (mÃªmes participants s'engag
 eant pour 4 ateliers minimum).\nLa frÃ©quence des ateliers sera Ã  dÃ©
 finir entre les participants et l'animatrice, sachant que pour enseign
 er un massage global, il faut 4 ateliers minimum (initialement : massa
 ge du dos).\nNB: en fonction du nombre de personnes intÃ©ressÃ©es, et 
 de leurs dÃ©sirs et contraintes (jours, heures), diffÃ©rents petits gr
 oupes pourront Ãªtre constituÃ©s, avec diffÃ©rents animateurs au besoi
 n.\n * Groupe : 6 participants (dont 3 hommes maximum).\n* Lieu : 6-8 
 rue Ornano (Lyon 1er)\n* DurÃ©e : ateliers de 3h chacun\n* Prix : 50â‚
 ¬ par atelier\n* Dates : certains jeudis en fin de journÃ©e, initialem
 ent jeudi 16 janvier.\n* DÃ©roulement : exercices pour se mettre dans 
 le corps, puis dÃ©monstration avec explications, puis mise en pratique
  entre participants sous la supervision de l'animatrice, sur 2 tables 
 de massage et un matelas au sol.\n* Animatrice : Florence Savonnet (ww
 w.florencesavonnet.fr/contact.html, 06 14 88 61 16, Â florence.savonne
 t@orange.fr) Masseuse depuis 10 ans, elle a envie de transmettre son s
 avoir faire mais aussi mon savoir Ãªtre, car toucher n'est pas anodin.
  La formation (sans certification ni attestation) sera une initiation 
 pour apprendre Ã  masser dans un cadre amical et familial, en apprivoi
 sant \"le toucher\", le donner et recevoir, en Ã©coutant le corps, ses
  besoins.\n* Renseignements :\nPour le contenu des ateliers : merci de
  contacter Florence.\nPour gÃ©rer la constitution Ã©ventuellement de d
 iffÃ©rents groupes : merci de m'indiquer (Ã  jean.luc.philippe@gmail.c
 om) votre intÃ©rÃªt Ã  Ã©ventuellement participer Ã  ces groupes.\nBon
 ne annÃ©e, et Ã  bientÃ´t peut-Ãªtre, Jean-Luc\n\nPour plus d'informat
 ion, aller sur https://epanews.fr/events/ateliers-lyonnais-de-formatio
 n-au-massage
DTSTART;TZID=Europe/Paris:20140116T190000
DTEND;TZID=Europe/Paris:20140116T220000
CATEGORIES:69
LOCATION:Lyon
WEBSITE:
URL:
CONTACT:06 14 88 61 16
ORGANIZER;CN=Ulysse669:https://epanews.fr/profile/Ulysse596
ATTACH;FMTTYPE="image/jpeg":http://storage.ning.com/topology/rest/1.0/
 file/get/1663016797?profile=original
ATTENDEE;ROLE=REQ-PARTICIPANT;PARTSTAT=ACCEPTED;RSVP=TRUE;CN=Ulysse669
 :https://epanews.fr/profile/Ulysse596
END:VEVENT
END:VCALENDAR
