BEGIN:VCALENDAR
PRODID:NingEventWidget-v1
VERSION:2.0
METHOD:PUBLISH
BEGIN:VTIMEZONE
TZID:Europe/Paris
X-LIC-LOCATION:Europe/Paris
BEGIN:DAYLIGHT
TZOFFSETFROM:+0100
TZOFFSETTO:+0200
TZNAME:CEST
DTSTART:19700329T020000
RRULE:FREQ=YEARLY;BYMONTH=3;BYDAY=-1SU
END:DAYLIGHT
BEGIN:STANDARD
TZOFFSETFROM:+0200
TZOFFSETTO:+0100
TZNAME:CET
DTSTART:19701025T030000
RRULE:FREQ=YEARLY;BYMONTH=10;BYDAY=-1SU
END:STANDARD
END:VTIMEZONE
BEGIN:VEVENT
UID:2485226:Event:165587
DTSTAMP:20260421T164847Z
SUMMARY:Ateliers : \"L'eau : force de vie - Dynamisation par le mouvem
 ent et la pensÃ©e\"
DESCRIPTION:ConfÃ©rence et ateliers\n\nL'eau, forces de vie\n\nDynamis
 ation par le mouvement et la pensÃ©e\n\nÂ« L'eau n'est pas indispensab
 le Ã  la vie, elle est la vie Â» A. de Saint Exupery\n\nLorsque nous o
 bservons l'eau dans la nature, dans ses comportements, sous diffÃ©rent
 es formes et transformations, l'eau se rÃ©vÃ¨le extrÃªmement sensible,
  rÃ©ceptive, gÃ©nÃ©reuse. ElÃ©ment primordial Ã  la vie sur terre, l'e
 au se comporte diffÃ©remment selon les conditions de l'environnement, 
 du milieu, de la tempÃ©rature etcâ€¦ auxquels elle se prÃªte.\n\nComme
 nt la vie se manifeste-elle au travers des mouvements de l'eau ?\n\nCo
 mment expÃ©rimenter que la pensÃ©e agit sur les mouvements et la quali
 tÃ© de l'eau organique et donc sur le corps formÃ© en grande partie d'
 eau ?\n\nMickaÃ«l MonziÃ¨s : Aquasculpteur Paysagiste\n\nEx-agriculteu
 r/Ã©leveur en Biodynamie. Formation puis enseignements en arts plastiq
 ues en Angleterre.\nVice prÃ©sident de l'association l'ASTE (Arts Scie
 nces et Techniques de l'Eau)\nMembre du FDRG (Flow Design Research Gro
 up) de l'IFA (International Flowform Association)\n\nATELIER : De la n
 ature de l'eau Ã  l'eau dans la nature.\nUne approche phÃ©nomÃ©nologiq
 ue et crÃ©ative : mise en pratique d'expÃ©rience sur la nature de\nl e
 au.\n\nDynamique des fluides, vortex, chaÃ®ne tourbillonnaire, formati
 on organiques dans le temps le temps et l'espace d aprÃ¨s les mÃ©thode
 s de T.schwenk. (Hydrodynamicien)\n\nFranÃ§ois Loutrel :inÃ©sithÃ©rape
 ute, ostÃ©opathe DE, Ã©nergÃ©tique chinoise, responsable de l'enseigne
 ment sud France de tai Chi Chuan pour la branche ITCCA.\n\nATELIER : E
 xpÃ©rimentation\nÃ€ la mÃªme Ã©poque que Benveniste travaillait sur la
  mÃ©moire de l'eau avec toutes les controverses que nous connaissons, 
 les ostÃ©opathes ont commencÃ© Ã  rÃ©aliser l'importance de l'exactitu
 de des ressentis spÃ©cifiques de leur profession. Nous pouvons mettre 
 en Ã©vidence l'influence de la pensÃ©e sur les mouvements et la qualit
 Ã© de l'eau organique, cela dans le cadre d'un protocole relativement 
 impeccable d'un point de vue scientifique. La pensÃ©e modifie le rythm
 e du liquide cÃ©phalo-rachidien, ce qui a pour effet d'accentuer ou de
  ralentir le rythme des facias dans tout le corps .\n\nÃ‰coute juste, 
 positionnement juste, contact juste, voici les qualitÃ©s que nous allo
 ns adopter afin de percevoir la subtilitÃ© de l'influence de l'esprit 
 sur la matiÃ¨re.\n\nProgramme\n\nToutes les activitÃ©s se dÃ©roulent a
 u Jardin IntÃ©rieur de\n\nMarguerittes, NÃ®mes Est:\n\nTout au long du
  week end :\nExposition de photographies et de textes\nExposition de v
 asque vive flowform\nEspace salon de thÃ©\n\nDimanche 05 dÃ©cembre de 
 9h Ã  18h\nATELIERS avec MichaÃ«l Monzies et FranÃ§ois Loutrel\n\nHora
 ires: 09h - 10h30 Atelier â€“ pause â€“ 10h 45 suite Atelier â€“ 12h30
  Repas\n14 h - 15h30 Atelier â€“ pause â€“ 15h 45 suite Atelier â€“ 17
 h30 Retrospective\n18h00 Fin du stage.\n\nLes deux ateliers vous seron
 t proposÃ©s en alternance au cours de la journÃ©e.\nPour le repas du m
 idi, repas proposÃ© par l'association Synapses tarif de 6,5 euros(avec
  adhÃ©sion Ã  l'association Synapses de 0,5cents).\nINSCRIPTION\nInscr
 iption sur formulaire Internet : doodle.com/2xbxcn5hybpcbrr3\nInscript
 ion par tÃ©lÃ©phone : 04 66 26 16 83\nContact mail: contact@lemniscate
 -processus.com\n\nBULLETIN D'INSCRIPTION PAPIER Ã  renvoyer Ã  Jardin 
 IntÃ©rieur, ZA la Ponche, KM 4 route d'Avignon, 30320 Margueittes (tÃ©
 lÃ©charger le programme + bulletin d'inscription : www.lemniscate-proc
 essus.com/documents_telechargeables.html )\n\nJe m'inscris Ã  la confÃ
 ©rence du samedi 04 dÃ©cembre Tarif : 7 euros\n\nJe m'inscris Ã  la jo
 urnÃ©e d'ateliers du dimanche 05 dÃ©cembre\nTarif public : 30euros\nTa
 rif Ã©lÃ¨ves Lemniscate Processus : 15euros\n\nPour plus d'information
 , aller sur https://epanews.fr/events/ateliers-leau-force-de-vie
DTSTART;TZID=Europe/Paris:20101205T000000
DTEND;TZID=Europe/Paris:20101205T235900
CATEGORIES:30, 34, 84, 48, 13, 11
LOCATION:NIMES
WEBSITE:http://www.lemniscate-processus.com/
URL:http://www.lemniscate-processus.com/
CONTACT:0466261683
ORGANIZER;CN="Jardin intÃ©rieur":https://epanews.fr/profile/Lemniscate
 Processus
ATTACH;FMTTYPE="image/jpeg":
ATTENDEE;ROLE=REQ-PARTICIPANT;PARTSTAT=ACCEPTED;RSVP=TRUE;CN="Jardin i
 ntÃ©rieur":https://epanews.fr/profile/LemniscateProcessus
END:VEVENT
END:VCALENDAR
