BEGIN:VCALENDAR
PRODID:NingEventWidget-v1
VERSION:2.0
METHOD:PUBLISH
BEGIN:VTIMEZONE
TZID:Europe/Paris
X-LIC-LOCATION:Europe/Paris
BEGIN:DAYLIGHT
TZOFFSETFROM:+0100
TZOFFSETTO:+0200
TZNAME:CEST
DTSTART:19700329T020000
RRULE:FREQ=YEARLY;BYMONTH=3;BYDAY=-1SU
END:DAYLIGHT
BEGIN:STANDARD
TZOFFSETFROM:+0200
TZOFFSETTO:+0100
TZNAME:CET
DTSTART:19701025T030000
RRULE:FREQ=YEARLY;BYMONTH=10;BYDAY=-1SU
END:STANDARD
END:VTIMEZONE
BEGIN:VEVENT
UID:2485226:Event:2920593
DTSTAMP:20260421T020950Z
SUMMARY:Ateliers de Sophrologie. Groupes hebdomadaires
DESCRIPTION:Debutants ou confirmés, ces séances permettent de renoue
 r avec le bien-être physique et psychique. Des outils variés (respir
 ation, visualisation, etc..) à pratiquer pour un changement en profon
 deur.\nPour participer s'inscrire à l'avance au 06 83 00 56 91. Group
 es de 6 personnes maximum. \nTarifs 2018: 15€ la séance ou 12€ s
 ur engagement d'un mois. \n\nPour plus d'information, aller sur https
 ://epanews.fr/events/ateliers-de-sophrologie-groupes-hebdomadaires
DTSTART;TZID=Europe/Paris:20180117T183000
DTEND;TZID=Europe/Paris:20180117T193000
CATEGORIES:13
LOCATION:MARSEILLE
WEBSITE:http://sophrologue.weebly.com
URL:http://sophrologue.weebly.com
CONTACT:0683005691
ORGANIZER:
ATTACH;FMTTYPE="image/jpeg":http://storage.ning.com/topology/rest/1.0/
 file/get/1663714802?profile=original
ATTENDEE;ROLE=REQ-PARTICIPANT;PARTSTAT=ACCEPTED;RSVP=TRUE;CN="Béatric
 e Mourgue d'Algue":https://epanews.fr/profile/BeatriceMourguedAlgue
END:VEVENT
END:VCALENDAR
