BEGIN:VCALENDAR
PRODID:NingEventWidget-v1
VERSION:2.0
METHOD:PUBLISH
BEGIN:VTIMEZONE
TZID:Europe/Paris
X-LIC-LOCATION:Europe/Paris
BEGIN:DAYLIGHT
TZOFFSETFROM:+0100
TZOFFSETTO:+0200
TZNAME:CEST
DTSTART:19700329T020000
RRULE:FREQ=YEARLY;BYMONTH=3;BYDAY=-1SU
END:DAYLIGHT
BEGIN:STANDARD
TZOFFSETFROM:+0200
TZOFFSETTO:+0100
TZNAME:CET
DTSTART:19701025T030000
RRULE:FREQ=YEARLY;BYMONTH=10;BYDAY=-1SU
END:STANDARD
END:VTIMEZONE
BEGIN:VEVENT
UID:2485226:Event:1028696
DTSTAMP:20260423T233347Z
SUMMARY:Ateliers de sensibilisation   Toucher d’accompagnement au bi
 en-être
DESCRIPTION:Savoir par des gestes très simples donner un massage rela
 xant de 15 à 30 mn, dans le cadre familial et/ou amical.\n2ème ATELI
 ER LE SAMEDI 24 NOVEMBRE 2012 DE 14H00 A 18H00\n\nPour plus d'informat
 ion, aller sur https://epanews.fr/events/ateliers-de-sensibilisation-t
 oucher-d-accompagnement-au-bien-tr-1
DTSTART;TZID=Europe/Paris:20121124T140000
DTEND;TZID=Europe/Paris:20121124T190000
CATEGORIES:84
LOCATION:Cabinet de kinésithérapie WEERTS-DERLOT
WEBSITE:https://plus.google.com/101151317582066289927/about?hl=fr
URL:https://plus.google.com/101151317582066289927/about?hl=fr
CONTACT:06 86 42 20 78
ORGANIZER:Christine Chénier
ATTACH;FMTTYPE="image/jpeg":http://storage.ning.com/topology/rest/1.0/
 file/get/1662701812?profile=original
ATTENDEE;ROLE=REQ-PARTICIPANT;PARTSTAT=ACCEPTED;RSVP=TRUE;CN="Christin
 e Carnavet":https://epanews.fr/profile/ChristineCarnavet
END:VEVENT
END:VCALENDAR
