BEGIN:VCALENDAR
PRODID:NingEventWidget-v1
VERSION:2.0
METHOD:PUBLISH
BEGIN:VTIMEZONE
TZID:Europe/Paris
X-LIC-LOCATION:Europe/Paris
BEGIN:DAYLIGHT
TZOFFSETFROM:+0100
TZOFFSETTO:+0200
TZNAME:CEST
DTSTART:19700329T020000
RRULE:FREQ=YEARLY;BYMONTH=3;BYDAY=-1SU
END:DAYLIGHT
BEGIN:STANDARD
TZOFFSETFROM:+0200
TZOFFSETTO:+0100
TZNAME:CET
DTSTART:19701025T030000
RRULE:FREQ=YEARLY;BYMONTH=10;BYDAY=-1SU
END:STANDARD
END:VTIMEZONE
BEGIN:VEVENT
UID:2485226:Event:1347564
DTSTAMP:20260422T082707Z
SUMMARY:Ateliers de Relax-danSe®
DESCRIPTION:Bonjour,\nà travers la relaxation et une danse spontanée
  autour d'un thème nourri de musiques choisies, je vous invite à re
 trouver et vivre pleinement votre inspiration créatrice, votre fémin
 ité.\n                     Bienvenue à toutes !\nAteliers
  mensuels de Relax-danSe® de 11h à 13h :\n              d
 imanche 12 mai 2013 \n              dimanche 16 juin 2013\nLie
 u : Théâtre de Ménilmontant, 15 rue du retrait 75020 Paris - sall
 e studio de danse.Métro Gambetta\nTarif : 25€ - Tarif réduit : 18
 €\n Si vous venez par épanews, je vous propose un tarif à 15€ p
 our votre premier atelier.\nAssociation les Arts et le Coeur\nRenseign
 ements et réservation : Savitri : 06.82.39.44.39\n \n\nPour plus 
 d'information, aller sur https://epanews.fr/events/ateliers-de-relax-d
 anse-1
DTSTART;TZID=Europe/Paris:20130512T110000
DTEND;TZID=Europe/Paris:20130512T130000
CATEGORIES:75
LOCATION:Théâtre de Ménilmontant
WEBSITE:
URL:
CONTACT:06.82.39.44.39
ORGANIZER;CN="Sandrine Michelot":https://epanews.fr/profile/Sandrine32
 8
ATTACH;FMTTYPE="image/jpeg":http://storage.ning.com/topology/rest/1.0/
 file/get/1662827906?profile=original
ATTENDEE;ROLE=REQ-PARTICIPANT;PARTSTAT=ACCEPTED;RSVP=TRUE;CN="Sandrine
  Michelot":https://epanews.fr/profile/Sandrine328
END:VEVENT
END:VCALENDAR
