BEGIN:VCALENDAR
PRODID:NingEventWidget-v1
VERSION:2.0
METHOD:PUBLISH
BEGIN:VTIMEZONE
TZID:Europe/Paris
X-LIC-LOCATION:Europe/Paris
BEGIN:DAYLIGHT
TZOFFSETFROM:+0100
TZOFFSETTO:+0200
TZNAME:CEST
DTSTART:19700329T020000
RRULE:FREQ=YEARLY;BYMONTH=3;BYDAY=-1SU
END:DAYLIGHT
BEGIN:STANDARD
TZOFFSETFROM:+0200
TZOFFSETTO:+0100
TZNAME:CET
DTSTART:19701025T030000
RRULE:FREQ=YEARLY;BYMONTH=10;BYDAY=-1SU
END:STANDARD
END:VTIMEZONE
BEGIN:VEVENT
UID:2485226:Event:92689
DTSTAMP:20260424T054426Z
SUMMARY:Ateliers de Présence
DESCRIPTION:Lumière de la Vie\nRencontre et ateliers de Présence\nav
 ec Sébastien Fargue\n\nà Toulon les 18 et 19 septembre\n\nLa Présen
 ce nous révèle la nature paisible et lumineuse de l’être que nous
  sommes.\nDissolvant toute séparation et libérant notre potentiel, e
 lle nous amène à prendre notre place dans le monde, au service de la
  Vie.\n\nCultiver notre capacité à vivre le moment présent est la c
 lé principale de l’éveil spirituel. Ce réveil commence par la red
 écouverte de notre propre dimension inconditionnée et lumineuse, au-
 delà des formes et des concepts.\nNous accédons consciemment à notr
 e essence et expérimentons alors la paix, l’amour et la joie qui so
 nt déjà en nous. Grâce à cette conscience transparente et récepti
 ve, nous ressentons la formidable vivance et l’unité de chaque êtr
 e et de chaque chose. Nous comprenons l’importance d’honorer et de
  respecter toutes les énergies de la vie.\n\nPratiquer la présence e
 nsemble, et chacun d’entre nous dans notre quotidien, est un art de 
 vivre qui nous permet de grandir en sagesse et en amour. Chacun à not
 re manière, et quelque soit la forme de notre pratique de présence, 
 nous contribuons à l’évolution de la conscience autour de nous et 
 sur la Terre.\nUn espace où la découverte et l'approfondissement de 
 notre nature éveillée sont facilités.\nNous pratiquons la présence
  à ce qui est, à l'intérieur et à l'extérieur.\nEchanges, questio
 ns-réponses, prises de consciences, ouvertures et silences rythment n
 otre vécu du moment présent. Pensées, sentiments, émotions, énerg
 ies et sensations sont des créations naturelles qui méritent leur pl
 ace au sein de la vie. A partir de notre ouverture, et grâce de petit
 s exercices simples, nous apprendrons à entrer en relation avec nous-
 mêmes, les autres et le monde, d’une façon plus profonde et authen
 tique. Dans le regard, l’écoute ou la parole, nous découvrons une 
 autre manière d’être, sans jugements, fixations ou exclusions. Nou
 s pouvons alors communier avec les différentes formes de vie qui nous
  compose et nous entoure.\n\nParticipation : 50 € la journée, tarif
  réduit 30 € / 90 € le week-end, tarif réduit 60 €\nchez Stefa
 no au 74 rue Sainte Rose - Toulon Ouest\n\nConsultations individuelles
  le lundi 20 septembre - 1h / 50 €\nRenseignements et inscriptions\n
 Stefano : 06 23 05 43 70 / Sébastien : 06 62 68 59 05\ncontact@la-pre
 sence.com - www.la-presence.com\n\nPour plus d'information, aller sur 
 https://epanews.fr/events/ateliers-de-presence
DTSTART;TZID=Europe/Paris:20100918T000000
DTEND;TZID=Europe/Paris:20100919T235900
CATEGORIES:83
LOCATION:Chez Stefano
WEBSITE:
URL:
CONTACT:
ORGANIZER;CN="Stefano PASSIGATTI":https://epanews.fr/profile/StefanoPA
 SSIGATTI
ATTACH;FMTTYPE="image/jpeg":
ATTENDEE;ROLE=REQ-PARTICIPANT;PARTSTAT=ACCEPTED;RSVP=TRUE;CN="Stefano 
 PASSIGATTI":https://epanews.fr/profile/StefanoPASSIGATTI
END:VEVENT
END:VCALENDAR
