BEGIN:VCALENDAR
PRODID:NingEventWidget-v1
VERSION:2.0
METHOD:PUBLISH
BEGIN:VTIMEZONE
TZID:Europe/Paris
X-LIC-LOCATION:Europe/Paris
BEGIN:DAYLIGHT
TZOFFSETFROM:+0100
TZOFFSETTO:+0200
TZNAME:CEST
DTSTART:19700329T020000
RRULE:FREQ=YEARLY;BYMONTH=3;BYDAY=-1SU
END:DAYLIGHT
BEGIN:STANDARD
TZOFFSETFROM:+0200
TZOFFSETTO:+0100
TZNAME:CET
DTSTART:19701025T030000
RRULE:FREQ=YEARLY;BYMONTH=10;BYDAY=-1SU
END:STANDARD
END:VTIMEZONE
BEGIN:VEVENT
UID:2485226:Event:1788365
DTSTAMP:20260421T232100Z
SUMMARY:Ateliers d'expression libre \"A Ma Sauce\"
DESCRIPTION:\n\n\nAteliers d'expression libre alliant le développemen
 t personnel, la spiritualité et la création artistique, les ateliers
  “A Ma Sauce” s’adressent à toute personne étant dans une dém
 arche d'évolution personnelle. Ces ateliers ont une durée de 3 heure
 s durant lesquelles nous échangerons, créerons et évoluerons tous e
 nsemble suivant le thème du moment et dans une démarche de co-évolu
 tion.  Un matériel de base sera fourni par mes soins mais si l'envie 
 vous dit d'amener vos outils n'hésitez pas.  Tarif : 20€/personne  
 Attention : nombre de places limité\nRéservation obligatoire  Cet at
 elier a lieu une fois par mois.  Dates : Mardi 08 avril Mardi 13 mai M
 ardi 10 juin  Plus de détails et d'offres tarifaires à cette adresse
  : http://www.evolu-soi.fr/ateliers/a-ma-sauce/\n\n\n\n\n\nPour plus d
 'information, aller sur https://epanews.fr/events/ateliers-d-expressio
 n-libre-a-ma-sauce-1
DTSTART;TZID=Europe/Paris:20140408T193000
DTEND;TZID=Europe/Paris:20140408T223000
CATEGORIES:49
LOCATION:Le Bon Pasteur
WEBSITE:http://www.evolu-soi.fr/ateliers/a-ma-sauce/
URL:http://www.evolu-soi.fr/ateliers/a-ma-sauce/
CONTACT:0671112610
ORGANIZER;CN=EvoluSoi:https://epanews.fr/profile/AnneMontet
ATTACH;FMTTYPE="image/jpeg":http://storage.ning.com/topology/rest/1.0/
 file/get/1663062849?profile=original
ATTENDEE;ROLE=REQ-PARTICIPANT;PARTSTAT=ACCEPTED;RSVP=TRUE;CN=EvoluSoi:
 https://epanews.fr/profile/AnneMontet
END:VEVENT
END:VCALENDAR
