BEGIN:VCALENDAR
PRODID:NingEventWidget-v1
VERSION:2.0
METHOD:PUBLISH
BEGIN:VTIMEZONE
TZID:Europe/Paris
X-LIC-LOCATION:Europe/Paris
BEGIN:DAYLIGHT
TZOFFSETFROM:+0100
TZOFFSETTO:+0200
TZNAME:CEST
DTSTART:19700329T020000
RRULE:FREQ=YEARLY;BYMONTH=3;BYDAY=-1SU
END:DAYLIGHT
BEGIN:STANDARD
TZOFFSETFROM:+0200
TZOFFSETTO:+0100
TZNAME:CET
DTSTART:19701025T030000
RRULE:FREQ=YEARLY;BYMONTH=10;BYDAY=-1SU
END:STANDARD
END:VTIMEZONE
BEGIN:VEVENT
UID:2485226:Event:536064
DTSTAMP:20260423T012639Z
SUMMARY:Ateliers d'essai enfants et parents-enfants
DESCRIPTION:A la villa PagnonÂ Ã Â Romans, 8 rue de Bellevue, l'associ
 ation Madyanima Terre & Conscience anime tout au long de l'annÃ©e scol
 aire des ateliers pour enfants et des ateliers parents/enfants : â€¢ Ã
 ‰veil sonore pour les tout-petitsÂ (6 Ã  30 mois) accompagnÃ©s d'un ad
 ulte : atelier bi-mensuel le mercredi matin desÂ semaines IMPAIRES, dÃ
 ©but le 12 octobre â€¢ Expression et crÃ©ativitÃ© pour les 3-5 ans :Â 
 atelier bi-mensuel le mercredi matin desÂ semaines PAIRES, dÃ©but le 5
  octobre â€¢Â Expression et crÃ©ativitÃ© pour les 6-11 ansÂ :Â atelier
  hebdomadaire le mercredi ap-midi, dÃ©but le 5 octobre â€¢Â Accueil-in
 fo, ateliers Ã  l'essai et inscriptions le mercredi 28 septembre.\nPlu
 s de dÃ©tail:\nhttp://lumieresouffle.unblog.fr/\nhttp://www.cheminsver
 slunite.fr/-Ateliers-et-cours-.html\nRenseignements : 06 12 52 66 32 /
 Â 06 26 14 52 41\n\nPour plus d'information, aller sur https://epanews
 .fr/events/ateliers-d-essai-enfants-et-parents-enfants
DTSTART;TZID=Europe/Paris:20110928T000000
DTEND;TZID=Europe/Paris:20110928T235900
CATEGORIES:26
LOCATION:Romans 
WEBSITE:http://maps.google.fr/maps?pq=villa+pagnon+romans&hl=fr&cp=31&
 gs_id=28&xhr=t&q=villa+pagnon+8+rue+de+bellevue+romans&client=firefox-
 a&hs=z4L&rls=org.mozilla:fr:official&biw=1641&bih=915&gs_upl=&bav=on.2
 ,or.r_gc.r_pw.&um=1&ie=UTF-8&ei=UwJ7TrKjJI3JsgbSzvXqDw&sa=X&oi=mode_li
 nk&ct=mode&cd=3&sqi=2&ved=0CA4Q_AUoAg
URL:http://maps.google.fr/maps?pq=villa+pagnon+romans&hl=fr&cp=31&gs_i
 d=28&xhr=t&q=villa+pagnon+8+rue+de+bellevue+romans&client=firefox-a&hs
 =z4L&rls=org.mozilla:fr:official&biw=1641&bih=915&gs_upl=&bav=on.2,or.
 r_gc.r_pw.&um=1&ie=UTF-8&ei=UwJ7TrKjJI3JsgbSzvXqDw&sa=X&oi=mode_link&c
 t=mode&cd=3&sqi=2&ved=0CA4Q_AUoAg
CONTACT:06 12 52 66 32 / 06 26 14 52 41
ORGANIZER:LumiÃ¨re & Souffle et Asso Madyanima
ATTACH;FMTTYPE="image/jpeg":http://storage.ning.com/topology/rest/1.0/
 file/get/1662458971?profile=original
ATTENDEE;ROLE=REQ-PARTICIPANT;PARTSTAT=ACCEPTED;RSVP=TRUE;CN="LumiÃ¨re
  & Souffle":https://epanews.fr/profile/LumiereSouffle
END:VEVENT
END:VCALENDAR
