BEGIN:VCALENDAR
PRODID:NingEventWidget-v1
VERSION:2.0
METHOD:PUBLISH
BEGIN:VTIMEZONE
TZID:Europe/Paris
X-LIC-LOCATION:Europe/Paris
BEGIN:DAYLIGHT
TZOFFSETFROM:+0100
TZOFFSETTO:+0200
TZNAME:CEST
DTSTART:19700329T020000
RRULE:FREQ=YEARLY;BYMONTH=3;BYDAY=-1SU
END:DAYLIGHT
BEGIN:STANDARD
TZOFFSETFROM:+0200
TZOFFSETTO:+0100
TZNAME:CET
DTSTART:19701025T030000
RRULE:FREQ=YEARLY;BYMONTH=10;BYDAY=-1SU
END:STANDARD
END:VTIMEZONE
BEGIN:VEVENT
UID:2485226:Event:2657601
DTSTAMP:20260421T063850Z
SUMMARY:ateliers calligraphie sino japonaise
DESCRIPTION: Atelier de Calligraphie sino-japonaise par le Dr Michel 
 Novovitch -\n A partir de septembre 2016Michel nous propose de nous e
 nseigner cet art de la calligraphie sino-japonnaise. \n Ces tracés,
  ces déliés sont à eux seuls une poésie de l'âme ... \n Venez d
 écouvrir cet art, et vous l'appropriez un temps soit peu !\nPrévisio
 n : 1 heure par semaine voire une heure toutes les deux semaines.\n\nP
 articipation :\nAdhérent 20€\nNon adhérent 25€\nInscriptions Nad
 ège 06.23.01.35.96 ou larcencieldupartage@sfr.fr\nLieu :\nl'arc en ci
 el du partage\n1 rue garancière\n11100 narbonne\n\nPour plus d'inform
 ation, aller sur https://epanews.fr/events/ateliers-calligraphie-sino-
 japonaise
DTSTART;TZID=Europe/Paris:20160903T140000
DTEND;TZID=Europe/Paris:20160903T170000
CATEGORIES:11
LOCATION:narbonne
WEBSITE:http://www.larcencieldupartage.org
URL:http://www.larcencieldupartage.org
CONTACT:0623013596
ORGANIZER;CN="L'arc en ciel du partage":https://epanews.fr/profile/Lar
 cencieldupartage
ATTACH;FMTTYPE="image/jpeg":http://storage.ning.com/topology/rest/1.0/
 file/get/1663571632?profile=original
ATTENDEE;ROLE=REQ-PARTICIPANT;PARTSTAT=ACCEPTED;RSVP=TRUE;CN="L'arc en
  ciel du partage":https://epanews.fr/profile/Larcencieldupartage
END:VEVENT
END:VCALENDAR
