BEGIN:VCALENDAR
PRODID:NingEventWidget-v1
VERSION:2.0
METHOD:PUBLISH
BEGIN:VTIMEZONE
TZID:Europe/Paris
X-LIC-LOCATION:Europe/Paris
BEGIN:DAYLIGHT
TZOFFSETFROM:+0100
TZOFFSETTO:+0200
TZNAME:CEST
DTSTART:19700329T020000
RRULE:FREQ=YEARLY;BYMONTH=3;BYDAY=-1SU
END:DAYLIGHT
BEGIN:STANDARD
TZOFFSETFROM:+0200
TZOFFSETTO:+0100
TZNAME:CET
DTSTART:19701025T030000
RRULE:FREQ=YEARLY;BYMONTH=10;BYDAY=-1SU
END:STANDARD
END:VTIMEZONE
BEGIN:VEVENT
UID:2485226:Event:1811467
DTSTAMP:20260422T003509Z
SUMMARY:Ateliers Câlin - Tendresse & créativité
DESCRIPTION:Ateliers Câlin à Montpellier\n« Tendresse & créativit
 é, vers une nouvelle éthique de la délicatesse »\n\nRéhabiliter 
 la tendresse, au service de la découverte de soi et de l’échange a
 uthentique.\nRevenir au langage du corps et au toucher, dans la simpli
 cité et la joie, puis oser la créativité.\nRassembler tous ceux qui
  aspirent à la fluidité, au raffinement, et créer du lien fraternel
  et voluptueux.\n\n Fidèle à mon intention de proposer nos Ateliers 
 partout où l’élan mène à la câlinerie, je suis bien heureux de 
 vous inviter à Montpellier :\n\nDimanche 27 avril « Goûter Câlin 
 » de 15h15 à 18h30 (accueil à partir de 14h45)\n\nL’Atelier sera 
 suivi d’un moment convivial autour d’un gâteau au chocolat\n\nOù
  : Le Jardin – 999 av du Pont Trinquat – 34070 Montpellier\n\nTari
 f : 20 € - TR 15 €\n\n\nMerci de faire circuler l'information aupr
 ès de votre réseau dans le sud.\nBien tendrement vers vous.\n\nTémo
 ignages, renseignements et inscription sur : www.atelierscalin.fr\n\n
 \n\nPour plus d'information, aller sur https://epanews.fr/events/ateli
 ers-c-lin-tendresse-cr-ativit-6
DTSTART;TZID=Europe/Paris:20140427T151500
DTEND;TZID=Europe/Paris:20140427T183000
CATEGORIES:34
LOCATION:Le Jardin – 999 av du Pont Trinquat – Montpellier
WEBSITE:
URL:
CONTACT:
ORGANIZER;CN="Ateliers Câlin":https://epanews.fr/profile/AteliersCali
 n
ATTACH;FMTTYPE="image/jpeg":http://storage.ning.com/topology/rest/1.0/
 file/get/1663003251?profile=original
ATTENDEE;ROLE=REQ-PARTICIPANT;PARTSTAT=ACCEPTED;RSVP=TRUE;CN="Ateliers
  Câlin":https://epanews.fr/profile/AteliersCalin
END:VEVENT
END:VCALENDAR
