BEGIN:VCALENDAR
PRODID:NingEventWidget-v1
VERSION:2.0
METHOD:PUBLISH
BEGIN:VTIMEZONE
TZID:Europe/Paris
X-LIC-LOCATION:Europe/Paris
BEGIN:DAYLIGHT
TZOFFSETFROM:+0100
TZOFFSETTO:+0200
TZNAME:CEST
DTSTART:19700329T020000
RRULE:FREQ=YEARLY;BYMONTH=3;BYDAY=-1SU
END:DAYLIGHT
BEGIN:STANDARD
TZOFFSETFROM:+0200
TZOFFSETTO:+0100
TZNAME:CET
DTSTART:19701025T030000
RRULE:FREQ=YEARLY;BYMONTH=10;BYDAY=-1SU
END:STANDARD
END:VTIMEZONE
BEGIN:VEVENT
UID:2485226:Event:2324492
DTSTAMP:20260425T041335Z
SUMMARY:Ateliers Biodanza et Peinture
DESCRIPTION:Bonjour à tous,\nPour aborder l'été joyeusement et dans
  la créativité, je vous propose de venir danser et peindre avec nous
 : bienvenue à tous.\nBénédicte.\nATELIERS BIODANZA ET PEINTURE\n  D
 EUX DIMANCHES EN JUIN  Animé par Bénédicte Chamberland       
       Dimanche 14 juin 2015 et  Dimanche 28 juin 2015  A l'espa
 ce Iris (10 rue de Bagnolet, 75019 Paris) Code porte remis à l'inscr
 iption\nDans le chemin de construction et d'intégration de notre iden
 tité, l'expression tient une place essentielle. Lorsque je peux vivre
  pleinement ma fonction créative innée, plonger dans mon propre mouv
 ement et créer depuis la pulsation de vie qui m'habite, alors je res
 sens une grande joie et un sentiment profond d'exister. \nTOUTES LES 
 INFOS ICI\nRenseignements et inscription: Bénédicte: 06 27 35 97 33\
 nbenedictechamberland@yahoo.fr\nWeb: http://lasource.biodanza91.com/\
 n\nPour plus d'information, aller sur https://epanews.fr/events/atelie
 rs-biodanza-et-peinture
DTSTART;TZID=Europe/Paris:20150614T093000
DTEND;TZID=Europe/Paris:20150614T170000
CATEGORIES:75019
LOCATION:Espace iris
WEBSITE:
URL:
CONTACT:0627359733
ORGANIZER;CN="Bénédicte Chamberland":https://epanews.fr/profile/Bene
 dicteChamberland
ATTACH;FMTTYPE="image/jpeg":http://storage.ning.com/topology/rest/1.0/
 file/get/1663393349?profile=original
ATTENDEE;ROLE=REQ-PARTICIPANT;PARTSTAT=ACCEPTED;RSVP=TRUE;CN="Bénédi
 cte Chamberland":https://epanews.fr/profile/BenedicteChamberland
END:VEVENT
END:VCALENDAR
