BEGIN:VCALENDAR
PRODID:NingEventWidget-v1
VERSION:2.0
METHOD:PUBLISH
BEGIN:VTIMEZONE
TZID:Europe/Paris
X-LIC-LOCATION:Europe/Paris
BEGIN:DAYLIGHT
TZOFFSETFROM:+0100
TZOFFSETTO:+0200
TZNAME:CEST
DTSTART:19700329T020000
RRULE:FREQ=YEARLY;BYMONTH=3;BYDAY=-1SU
END:DAYLIGHT
BEGIN:STANDARD
TZOFFSETFROM:+0200
TZOFFSETTO:+0100
TZNAME:CET
DTSTART:19701025T030000
RRULE:FREQ=YEARLY;BYMONTH=10;BYDAY=-1SU
END:STANDARD
END:VTIMEZONE
BEGIN:VEVENT
UID:2485226:Event:2789823
DTSTAMP:20260423T033239Z
SUMMARY:ateliers astrologie
DESCRIPTION:Narbonne - Ateliers Astrologie par l'Institut Maitreya - 
 \nDébut des ateliers le jeudi 23 Février 2017 de 14h00 à 17h00 \n\
 nL'Intitut MAITREYA vous propose des ateliers DECOUVERTE de l'ASTROLOG
 IE (2 ateliers par mois) avec la découverte des SIGNES, des PLANETES 
 et des MAISONS. \n\nComment l'Astrologie peut vous aider dans votre v
 ie ? \n\n et pour finaliser, VOUS MONTEREZ VOTRE THEME DE NAISSANCE 
 OU CELUI DE VOTRE ENFANT. \n\n Nombres d'ateliers prévus 5 ou 6 sui
 vant le rythme du groupe \n\nUn minimum de 5 personnes par atelier se
 ra demandé \n\n prévoir quelques fournitures : crayons de couleurs
  1 rouge, 1 bleu, une règle, des feuilles ou cahier pour prendre des 
 notes et 1 stylo et 1 crayon à papier avec une gomme. \n\nTarif par 
 atelier 25€ non adhérent 22€ adhérent Places limitées\n\nRéser
 vations Nadège 06.23.01.35.96 larcencieldupartage@sfr.fr\n\nL'arc en 
 ciel du partage \n1 rue garancière 11100 Narbonne\n\nwww.larcencield
 upartage.org\n\nPour plus d'information, aller sur https://epanews.fr/
 events/ateliers-astrologie
DTSTART;TZID=Europe/Paris:20170223T140000
DTEND;TZID=Europe/Paris:20170223T160000
CATEGORIES:11
LOCATION:narbonne
WEBSITE:http://www.larcencieldupartage.org
URL:http://www.larcencieldupartage.org
CONTACT:0623013596
ORGANIZER;CN="L'arc en ciel du partage":https://epanews.fr/profile/Lar
 cencieldupartage
ATTACH;FMTTYPE="image/jpeg":http://storage.ning.com/topology/rest/1.0/
 file/get/1663646283?profile=original
ATTENDEE;ROLE=REQ-PARTICIPANT;PARTSTAT=ACCEPTED;RSVP=TRUE;CN="L'arc en
  ciel du partage":https://epanews.fr/profile/Larcencieldupartage
END:VEVENT
END:VCALENDAR
