BEGIN:VCALENDAR
PRODID:NingEventWidget-v1
VERSION:2.0
METHOD:PUBLISH
BEGIN:VTIMEZONE
TZID:Europe/Paris
X-LIC-LOCATION:Europe/Paris
BEGIN:DAYLIGHT
TZOFFSETFROM:+0100
TZOFFSETTO:+0200
TZNAME:CEST
DTSTART:19700329T020000
RRULE:FREQ=YEARLY;BYMONTH=3;BYDAY=-1SU
END:DAYLIGHT
BEGIN:STANDARD
TZOFFSETFROM:+0200
TZOFFSETTO:+0100
TZNAME:CET
DTSTART:19701025T030000
RRULE:FREQ=YEARLY;BYMONTH=10;BYDAY=-1SU
END:STANDARD
END:VTIMEZONE
BEGIN:VEVENT
UID:2485226:Event:3028270
DTSTAMP:20260425T033835Z
SUMMARY:ateliers akashiques niveau 2
DESCRIPTION:Ateliers akashiques niveau 2 par Colette Salvanez de 9h30 
 à 17h00 Après ce voyage fantastique sur le chemin de notre Ame, voyo
 ns si nous pouvons grâce aux annales niveau 2 nous libérer de nos vo
 eux.\nEnsuite, comment libérer les maisons, les lieux, et ainsi déli
 vrer ceux qui nous le demandent (obligation du consentement).\nObligat
 ion d'avoir suivi l'atelier niveau 1.\nRepas sur place type auberge es
 pagnole\nTarifs : 60€ la journée - Adhérent 70€ la journée - No
 n Adhérent 20€ d'arrhes pour valider l'inscription - à envoyer à 
 Colette salvanez au 1 rue garancière 11100 narbonne\nInscription obli
 gatoire à : Nadège 06.23.01.35.96 larcencieldupartage@gmail.com\n\nP
 our plus d'information, aller sur https://epanews.fr/events/ateliers-a
 kashiques-niveau-2-1
DTSTART;TZID=Europe/Paris:20190730T093000
DTEND;TZID=Europe/Paris:20190730T170000
CATEGORIES:11
LOCATION:narbonne
WEBSITE:http://www.larcencieldupartage.org
URL:http://www.larcencieldupartage.org
CONTACT:0623013596
ORGANIZER;CN="L'arc en ciel du partage":https://epanews.fr/profile/Lar
 cencieldupartage
ATTACH;FMTTYPE="image/jpeg":https://storage.ning.com/topology/rest/1.0
 /file/get/2225730908?profile=original
ATTENDEE;ROLE=REQ-PARTICIPANT;PARTSTAT=ACCEPTED;RSVP=TRUE;CN="L'arc en
  ciel du partage":https://epanews.fr/profile/Larcencieldupartage
END:VEVENT
END:VCALENDAR
