BEGIN:VCALENDAR
PRODID:NingEventWidget-v1
VERSION:2.0
METHOD:PUBLISH
BEGIN:VTIMEZONE
TZID:Europe/Paris
X-LIC-LOCATION:Europe/Paris
BEGIN:DAYLIGHT
TZOFFSETFROM:+0100
TZOFFSETTO:+0200
TZNAME:CEST
DTSTART:19700329T020000
RRULE:FREQ=YEARLY;BYMONTH=3;BYDAY=-1SU
END:DAYLIGHT
BEGIN:STANDARD
TZOFFSETFROM:+0200
TZOFFSETTO:+0100
TZNAME:CET
DTSTART:19701025T030000
RRULE:FREQ=YEARLY;BYMONTH=10;BYDAY=-1SU
END:STANDARD
END:VTIMEZONE
BEGIN:VEVENT
UID:2485226:Event:3043006
DTSTAMP:20260424T040219Z
SUMMARY:Atelier Yoga Nidra
DESCRIPTION:Yoga Nidra ou \"yoga du sommeil\"\nTarif: 15 euros\nLe yog
 a Nidra est une technique de méditation d'origine indienne, guidée p
 ar l'enseignant. Il se pratique allongé donc accessible à tous.\nC e
 st en premier lieu une expérience de relaxation profonde au niveau ph
 ysique, mental, émotionnel, un lâcher prise immédiat et des bénéf
 ices dès la première séance.\nIl s'agit de favoriser le sommeil du 
 corps et l'éveil de la conscience. Il permet d'expérimenter entre au
 tres des états de conscience modifiée.\nCette pratique permet une gr
 ande récupération physique et mentale. La récupération est parfois
  plus importante qu'une nuit de sommeil.\nC'est un grand et merveilleu
 x voyage intérieur. Cette pratique impulse des changements intérieur
 s.\n\nVous êtes: stressés, en burn out, épuisés physiquement, émo
 tionnellement, mentalement.\nVous souffrez de problème de santé, d'i
 nsomnie...\nVous êtes enceinte, âgés...\nVous ne pouvez pas médite
 r d'ordinaire en position assise ou vous ne pouvez pas faire du yoga \
 "classique\"\nVous avez envi d'expérimenter cet état modifié de con
 science...\nVous avez besoin de vous ressourcer, de faire une pause, d
 e vous accorder un moment pour vous...\nBienvenue à tous, pour cette 
 expérience unique.\n\nMatériel: vêtement chaud et ample, chaussette
 , coussin, plaid\nInscription: Places limitées à 4 personnes. Merci 
 de vous inscrire avant le 11 oct\nA bientôt. Christelle.\n\nPour plus
  d'information, aller sur https://epanews.fr/events/atelier-yoga-nidra
DTSTART;TZID=Europe/Paris:20191025T180000
DTEND;TZID=Europe/Paris:20191025T190000
CATEGORIES:30
LOCATION:Aimargues
WEBSITE:http://soins-et-bien-etre.com
URL:http://soins-et-bien-etre.com
CONTACT:06.43.51.48.97
ORGANIZER;CN=Reikielle:https://epanews.fr/profile/Lafont715
ATTACH;FMTTYPE="image/jpeg":https://storage.ning.com/topology/rest/1.0
 /file/get/3633318682?profile=original
ATTENDEE;ROLE=REQ-PARTICIPANT;PARTSTAT=ACCEPTED;RSVP=TRUE;CN=Reikielle
 :https://epanews.fr/profile/Lafont715
ATTENDEE;ROLE=REQ-PARTICIPANT;PARTSTAT=TENTATIVE;RSVP=TRUE;CN=Mylène2
 6:https://epanews.fr/profile/123soleil227
END:VEVENT
END:VCALENDAR
