BEGIN:VCALENDAR
PRODID:NingEventWidget-v1
VERSION:2.0
METHOD:PUBLISH
BEGIN:VTIMEZONE
TZID:Europe/Paris
X-LIC-LOCATION:Europe/Paris
BEGIN:DAYLIGHT
TZOFFSETFROM:+0100
TZOFFSETTO:+0200
TZNAME:CEST
DTSTART:19700329T020000
RRULE:FREQ=YEARLY;BYMONTH=3;BYDAY=-1SU
END:DAYLIGHT
BEGIN:STANDARD
TZOFFSETFROM:+0200
TZOFFSETTO:+0100
TZNAME:CET
DTSTART:19701025T030000
RRULE:FREQ=YEARLY;BYMONTH=10;BYDAY=-1SU
END:STANDARD
END:VTIMEZONE
BEGIN:VEVENT
UID:2485226:Event:2578722
DTSTAMP:20260421T171606Z
SUMMARY:Atelier Wùo TaÏ mensuel au Loft Zen le dimanche 21 Février
DESCRIPTION:Bonjour à tous et à toutes.  Le prochain atelier  Wùo 
 Taï aura lieu au Loft Zen, 12 rue gigodot à Lyon de 15h à 18h le di
 manche 21 Février.  Le contenu de l'atelier est pensé afin que chacu
 n (débutant ou avancé) puisse s'y retrouver. Nous apprendrons à cha
 que atelier une série de mouvement dans une sphère différente (arti
 culaire, fascia, myo-fascia, ostéo, viscérale...). Ensuite la part-b
 elle sera faite à la pratique sous la forme d'un aller-retour qui per
 mettra de ressentir et d'intégrer le Wùo Taï.   Cet atelier à pour
  objectif la transmission de cette pratique de bien-être afin de: - l
 ibérer la mobilité et la souplesse de tous les tissus du corps -cré
 er un collectif dynamique et créatif de personnes intéressées par l
 e prendre soin de soi et des autres -diffuser cette belle pratique cr
 e seulement en 2003 par Roland Combe  Venez avec une tenue confortabl
 e, une bouteille d'eau et un petit plaid pour les frileux/frileuses.  
 Prix d'équilibre: 20€ pour me permettre de continuer à aller puise
 r le geste à la source chez Roland et Nathalie Combe.  Pré-inscripti
 on par mail tavenardhelene@hotmail.fr en lien avec le nombre de places
  limitées.\nProchaine dates: Les Dimanche  20 Mars, 24 Avril, 22 Mai
  et 26 Juin de 15h à 18h au Loft-Zen.\n  Voici le site de roland et n
 athalie: http://www.wuotai.com/  Celui du Loft-Zen 12 rue Gigodot 6900
 4 LYON http://loft-zen.over-blog.com/    Et mon ptit blog: http://afl
 eurdegeste.blogspot.fr/   Au plaisir de vous retrouver ce dimanche.  
 Hélène, passeuse d'idées et de gestes\n\nPour plus d'information, a
 ller sur https://epanews.fr/events/atelier-w-o-ta-mensuel-au-loft-zen-
 ce-dimanche-24-janvier-1
DTSTART;TZID=Europe/Paris:20160221T150000
DTEND;TZID=Europe/Paris:20160221T180000
CATEGORIES:69
LOCATION:Lyon croix rousse
WEBSITE:http://loft-zen.over-blog.com/
URL:http://loft-zen.over-blog.com/
CONTACT:0677273473
ORGANIZER;CN="Association A Fleur de Geste":https://epanews.fr/profile
 /AssociationAFleurdeGeste
ATTACH;FMTTYPE="image/jpeg":http://storage.ning.com/topology/rest/1.0/
 file/get/1663527906?profile=original
ATTENDEE;ROLE=REQ-PARTICIPANT;PARTSTAT=ACCEPTED;RSVP=TRUE;CN="Associat
 ion A Fleur de Geste":https://epanews.fr/profile/AssociationAFleurdeGe
 ste
END:VEVENT
END:VCALENDAR
