BEGIN:VCALENDAR
PRODID:NingEventWidget-v1
VERSION:2.0
METHOD:PUBLISH
BEGIN:VTIMEZONE
TZID:Europe/Paris
X-LIC-LOCATION:Europe/Paris
BEGIN:DAYLIGHT
TZOFFSETFROM:+0100
TZOFFSETTO:+0200
TZNAME:CEST
DTSTART:19700329T020000
RRULE:FREQ=YEARLY;BYMONTH=3;BYDAY=-1SU
END:DAYLIGHT
BEGIN:STANDARD
TZOFFSETFROM:+0200
TZOFFSETTO:+0100
TZNAME:CET
DTSTART:19701025T030000
RRULE:FREQ=YEARLY;BYMONTH=10;BYDAY=-1SU
END:STANDARD
END:VTIMEZONE
BEGIN:VEVENT
UID:2485226:Event:3067326
DTSTAMP:20260424T200747Z
SUMMARY:Atelier Venez Ã  la rencontre de vos ancÃªtres
DESCRIPTION:Atelier Venez Ã  la rencontre de vos ancÃªtres par Jacquel
 ine BachÂ \nQuand on arrive au monde, on est le fruit de deux lignÃ©es
 . On vient s inscrire dans une histoire familiale qui nous a prÃ©cÃ©dÃ
 ©. On hÃ©rite de toutes les histoires, racontÃ©es ou les secrets de fa
 milles, les schÃ©mas rÃ©pÃ©titifs, les deuils indicibles...\nJe vous p
 ropose une journÃ©e pour une approche psychogÃ©nÃ©alogique qui va vous
  permettre de faire des liens entre ce qui se passe pour vous aujourd'
 hui, votre histoire de naissance et votre arbre gÃ©nÃ©alogique.Places 
 limitÃ©es 5 personnesRequis pour cette journÃ©e : remplir votre questi
 onnaire histoire de naissance (envoyÃ© par mail Ã  l'inscription).Et p
 rÃ©parer votre arbre gÃ©nÃ©alogique.\nTarifs :60â‚¬ adhÃ©rent70â‚¬ non
  adhÃ©rent20â‚¬ d'arrhes pour valider l'inscriptionlien pour les arrhe
 s :Â https://www.helloasso.com/associations/l-arc-en-ciel-du-partage/e
 venements/atelier-venez-rencontrer-vos-ancetres\nRepas type auberge es
 pagnole\nRÃ©servations obligatoire : NadÃ¨ge 06.23.01.35.96 ou par res
 ervio (lien ci dessous)\n\nPour plus d'information, aller sur https://
 epanews.fr/events/atelier-venez-la-rencontre-de-vos-anc-tres-6
DTSTART;TZID=Europe/Paris:20201010T093000
DTEND;TZID=Europe/Paris:20201010T180000
CATEGORIES:11
LOCATION:l'arc en ciel du partage
WEBSITE:http://www.larcencieldupartage.org
URL:http://www.larcencieldupartage.org
CONTACT:0623013596
ORGANIZER;CN="L'arc en ciel du partage":https://epanews.fr/profile/Lar
 cencieldupartage
ATTACH;FMTTYPE="image/jpeg":https://storage.ning.com/topology/rest/1.0
 /file/get/7133833268?profile=original
ATTENDEE;ROLE=REQ-PARTICIPANT;PARTSTAT=ACCEPTED;RSVP=TRUE;CN="L'arc en
  ciel du partage":https://epanews.fr/profile/Larcencieldupartage
END:VEVENT
END:VCALENDAR
