BEGIN:VCALENDAR
PRODID:NingEventWidget-v1
VERSION:2.0
METHOD:PUBLISH
BEGIN:VTIMEZONE
TZID:Europe/Paris
X-LIC-LOCATION:Europe/Paris
BEGIN:DAYLIGHT
TZOFFSETFROM:+0100
TZOFFSETTO:+0200
TZNAME:CEST
DTSTART:19700329T020000
RRULE:FREQ=YEARLY;BYMONTH=3;BYDAY=-1SU
END:DAYLIGHT
BEGIN:STANDARD
TZOFFSETFROM:+0200
TZOFFSETTO:+0100
TZNAME:CET
DTSTART:19701025T030000
RRULE:FREQ=YEARLY;BYMONTH=10;BYDAY=-1SU
END:STANDARD
END:VTIMEZONE
BEGIN:VEVENT
UID:2485226:Event:1017560
DTSTAMP:20260423T225917Z
SUMMARY:Atelier \"Utilisations du Rescue pour tous les animaux\"
DESCRIPTION:Parce que les bienfaits du rescue ne sont pas rÃ©servÃ©s Ã
   l'humain, Caroline Pico, conseillÃ¨re en fleurs de Bach humains et a
 nimaux Ã Lyon Croix-Rousse, vous propose un atelier pour tout savoir !
 \nChiens, chats, lapins, chevaux... sont apaisÃ© par le rescue dans no
 mbres de situations mais les posologies varient selon les animaux.\nCe
 t atelier d'1h30 est agrÃ©mentÃ© d'exercices pratiques pour bien utili
 ser le rescue pour les animaux et dÃ©couvrir le travaille du docteur B
 ach. Un support de cours est remis.\nTarif : 25â‚¬\nTous les dÃ©tails 
 du contenu de l'atelier et les modalitÃ©s d'inscriptions sont sur : ht
 tp://www.fleurs-de-bach-lyon.com/3-fleurs-de-bach-lyon-atelier-rescue-
 animaux.php\n\"Au plaisir de vous aider Ã  les aider\"\nCaroline Pico\
 n\nPour plus d'information, aller sur https://epanews.fr/events/atelie
 r-utilisations-du-rescue-pour-tous-les-animaux
DTSTART;TZID=Europe/Paris:20121126T193000
DTEND;TZID=Europe/Paris:20121126T210000
CATEGORIES:69
LOCATION:Restaurant le jardin intÃ©rieur bio et vÃ©gan
WEBSITE:http://www.restaurantjardininterieur.fr/crbst_8.html
URL:http://www.restaurantjardininterieur.fr/crbst_8.html
CONTACT:06 83 93 70 86
ORGANIZER:Caroline Pico, ConseillÃ¨re Fleurs de Bach
ATTACH;FMTTYPE="image/jpeg":http://storage.ning.com/topology/rest/1.0/
 file/get/1662694149?profile=original
ATTENDEE;ROLE=REQ-PARTICIPANT;PARTSTAT=ACCEPTED;RSVP=TRUE;CN="Conseill
 Ã¨re  Fleurs de Bach":https://epanews.fr/profile/ConseillereFleursdeBa
 ch
END:VEVENT
END:VCALENDAR
