BEGIN:VCALENDAR
PRODID:NingEventWidget-v1
VERSION:2.0
METHOD:PUBLISH
BEGIN:VTIMEZONE
TZID:Europe/Paris
X-LIC-LOCATION:Europe/Paris
BEGIN:DAYLIGHT
TZOFFSETFROM:+0100
TZOFFSETTO:+0200
TZNAME:CEST
DTSTART:19700329T020000
RRULE:FREQ=YEARLY;BYMONTH=3;BYDAY=-1SU
END:DAYLIGHT
BEGIN:STANDARD
TZOFFSETFROM:+0200
TZOFFSETTO:+0100
TZNAME:CET
DTSTART:19701025T030000
RRULE:FREQ=YEARLY;BYMONTH=10;BYDAY=-1SU
END:STANDARD
END:VTIMEZONE
BEGIN:VEVENT
UID:2485226:Event:1295031
DTSTAMP:20260423T215043Z
SUMMARY:Atelier thÃ©Ã¢tre
DESCRIPTION:Contenu et objectifÂ : Il est question ici de thÃ©Ã¢tre mo
 derneÂ Â pour apprendre Ã  interprÃ©ter toutes sortes de personnages, 
 situations, Ã©motions avec des exercices divers mÃªlant le chant, lâ€™
 expression corporelle, le mime, la respiration etc. Lâ€™objectif de ce
 t atelier est de prÃ©parer des petites scÃ©nettes et sâ€™entraÃ®ner au
  thÃ©Ã¢tre dâ€™improvisation et bien sÃ»r de travailler sur soi.\nLe 1
 erÂ maiÂ Â de 10h Ã  18hÂ participationÂ : 44 euros +16 euros dâ€™adhÃ
 ©sion Ã  lâ€™association\nÂ Â Â Â Â Â Â Â Â Â Â Â Â Â Â Â Â Â Â Â Â Â 
 Â Â Â Â Â Â Â Â Â Â Â Â Â Â Â Â  lieu: Arles sur Tech\n\nPour plus d'i
 nformation, aller sur https://epanews.fr/events/atelier-th-tre
DTSTART;TZID=Europe/Paris:20130501T100000
DTEND;TZID=Europe/Paris:20130501T180000
CATEGORIES:66
LOCATION:Arles sur Tech
WEBSITE:http://http;//artistedelajoieetdelavie.over_blog.com
URL:http://http;//artistedelajoieetdelavie.over_blog.com
CONTACT:0630465958
ORGANIZER;CN="Brigitte Ahoia":https://epanews.fr/profile/BrigitteAhoia
ATTACH;FMTTYPE="image/jpeg":http://storage.ning.com/topology/rest/1.0/
 file/get/1662805182?profile=original
ATTENDEE;ROLE=REQ-PARTICIPANT;PARTSTAT=ACCEPTED;RSVP=TRUE;CN="Brigitte
  Ahoia":https://epanews.fr/profile/BrigitteAhoia
END:VEVENT
END:VCALENDAR
