BEGIN:VCALENDAR
PRODID:NingEventWidget-v1
VERSION:2.0
METHOD:PUBLISH
BEGIN:VTIMEZONE
TZID:Europe/Paris
X-LIC-LOCATION:Europe/Paris
BEGIN:DAYLIGHT
TZOFFSETFROM:+0100
TZOFFSETTO:+0200
TZNAME:CEST
DTSTART:19700329T020000
RRULE:FREQ=YEARLY;BYMONTH=3;BYDAY=-1SU
END:DAYLIGHT
BEGIN:STANDARD
TZOFFSETFROM:+0200
TZOFFSETTO:+0100
TZNAME:CET
DTSTART:19701025T030000
RRULE:FREQ=YEARLY;BYMONTH=10;BYDAY=-1SU
END:STANDARD
END:VTIMEZONE
BEGIN:VEVENT
UID:2485226:Event:1371330
DTSTAMP:20260422T040129Z
SUMMARY:Atelier Tarot psychologique et Constellations systÃ©miques
DESCRIPTION:Approche et Ã©clairage combinÃ©s du Tarot - selon Jodorows
 ky - et des Constellations systÃ©miques - familiales - :\npour aider Ã
   prendre des dÃ©cisions, Ã  explorer un choix de vie, Ã  mieux compre
 ndre des situations ou relations inconfortables...pour mettre en mouve
 ment les ressources disponibles au plus profond de nous et crÃ©er un e
 space d'ouverture.\nL'approche des Constellations ici mise en Å“uvre n
 e se focalise pas sur les liens inter-gÃ©nÃ©rationnels, mais sur toute
 s les dynamiques prÃ©sentes en chaque problÃ©matique.\nSommes deux int
 ervenants, Myriam GRUBER pour le Tarot , et moi-mÃªme Dominique FROMM 
 pour les Constellations, Ã  accompagner en complÃ©mentaritÃ© les \"con
 sultants\".\n\nPour plus d'information, aller sur https://epanews.fr/e
 vents/atelier-tarot-psychologique-et-constellations-syst-miques-1
DTSTART;TZID=Europe/Paris:20130622T134500
DTEND;TZID=Europe/Paris:20130622T194500
CATEGORIES:26
LOCATION:Crest
WEBSITE:
URL:
CONTACT:04 75 42 01 65
ORGANIZER;CN=domidoume:https://epanews.fr/profile/domidoume
ATTACH;FMTTYPE="image/jpeg":http://storage.ning.com/topology/rest/1.0/
 file/get/1662845134?profile=original
ATTENDEE;ROLE=REQ-PARTICIPANT;PARTSTAT=ACCEPTED;RSVP=TRUE;CN=AMARANTE:
 https://epanews.fr/profile/AMARANTE26
ATTENDEE;ROLE=REQ-PARTICIPANT;PARTSTAT=ACCEPTED;RSVP=TRUE;CN=domidoume
 :https://epanews.fr/profile/domidoume
END:VEVENT
END:VCALENDAR
