BEGIN:VCALENDAR
PRODID:NingEventWidget-v1
VERSION:2.0
METHOD:PUBLISH
BEGIN:VTIMEZONE
TZID:Europe/Paris
X-LIC-LOCATION:Europe/Paris
BEGIN:DAYLIGHT
TZOFFSETFROM:+0100
TZOFFSETTO:+0200
TZNAME:CEST
DTSTART:19700329T020000
RRULE:FREQ=YEARLY;BYMONTH=3;BYDAY=-1SU
END:DAYLIGHT
BEGIN:STANDARD
TZOFFSETFROM:+0200
TZOFFSETTO:+0100
TZNAME:CET
DTSTART:19701025T030000
RRULE:FREQ=YEARLY;BYMONTH=10;BYDAY=-1SU
END:STANDARD
END:VTIMEZONE
BEGIN:VEVENT
UID:2485226:Event:2360788
DTSTAMP:20260424T190759Z
SUMMARY:Modification demandée
DESCRIPTION:Apprentissage et pratique du tirage en sept lames et expre
 ssion créative à partir du message des cartes!\n Le but de cet ateli
 er est d'associer le message du Tarot à notre potentiel créatif. Nou
 sapprendrons et pratiquerons le tirage en sept lames selon la méthode
  de Marcel Picard.\nPuis, nous laisserons libre cours à notre créati
 vité afin de mettre en image le message que nous aura délivré le Ta
 rot. L'expression créative est un outil efficace et ludique qui perme
 t d'exprimer nos envies et ressources profondes.  Nous réaliserons po
 ur cela un tableau, mélangeant collage et dessin....\n\nA Saint-Georg
 es de Didonne, de 14h à 18h,\n40 euros\n\nPour plus d'information, al
 ler sur https://epanews.fr/events/atelier-tarot-de-marseille-et-cr-ati
 vit-1
DTSTART;TZID=Europe/Paris:20150725T140000
DTEND;TZID=Europe/Paris:20150725T180000
CATEGORIES:17
LOCATION:Saint-Georges de Didonne
WEBSITE:http://www.murieljarousseau.com
URL:http://www.murieljarousseau.com
CONTACT:06 18 13 74 17
ORGANIZER;CN=muriel:https://epanews.fr/profile/muriel54
ATTACH;FMTTYPE="image/jpeg":http://storage.ning.com/topology/rest/1.0/
 file/get/1663418742?profile=original
ATTENDEE;ROLE=REQ-PARTICIPANT;PARTSTAT=ACCEPTED;RSVP=TRUE;CN=muriel:ht
 tps://epanews.fr/profile/muriel54
END:VEVENT
END:VCALENDAR
