BEGIN:VCALENDAR
PRODID:NingEventWidget-v1
VERSION:2.0
METHOD:PUBLISH
BEGIN:VTIMEZONE
TZID:Europe/Paris
X-LIC-LOCATION:Europe/Paris
BEGIN:DAYLIGHT
TZOFFSETFROM:+0100
TZOFFSETTO:+0200
TZNAME:CEST
DTSTART:19700329T020000
RRULE:FREQ=YEARLY;BYMONTH=3;BYDAY=-1SU
END:DAYLIGHT
BEGIN:STANDARD
TZOFFSETFROM:+0200
TZOFFSETTO:+0100
TZNAME:CET
DTSTART:19701025T030000
RRULE:FREQ=YEARLY;BYMONTH=10;BYDAY=-1SU
END:STANDARD
END:VTIMEZONE
BEGIN:VEVENT
UID:2485226:Event:167446
DTSTAMP:20260425T123035Z
SUMMARY:Atelier sur les solarisations de l'oiseau vert
DESCRIPTION:Ateliers gratuits organisés par l'oiseau vert. Les créat
 eurs des solarisations viennent expliquer leur produits, les effets de
  chacun sur nos différents corps.\nDeux ateliers sont proposés :\nun
  premier de 10h à 12h et un second de 15h à 17h.\n\nPour plus d'info
 rmation, aller sur https://epanews.fr/events/atelier-sur-les-solarisat
 ions
DTSTART;TZID=Europe/Paris:20110109T000000
DTEND;TZID=Europe/Paris:20110109T235900
CATEGORIES:13
LOCATION:Salon de provence
WEBSITE:
URL:
CONTACT:0628341481
ORGANIZER:L'oiseau vert (Laure Gautier)
ATTACH;FMTTYPE="image/jpeg":
ATTENDEE;ROLE=REQ-PARTICIPANT;PARTSTAT=ACCEPTED;RSVP=TRUE;CN=llio:http
 s://epanews.fr/profile/llio
END:VEVENT
END:VCALENDAR
