BEGIN:VCALENDAR
PRODID:NingEventWidget-v1
VERSION:2.0
METHOD:PUBLISH
BEGIN:VTIMEZONE
TZID:Europe/Paris
X-LIC-LOCATION:Europe/Paris
BEGIN:DAYLIGHT
TZOFFSETFROM:+0100
TZOFFSETTO:+0200
TZNAME:CEST
DTSTART:19700329T020000
RRULE:FREQ=YEARLY;BYMONTH=3;BYDAY=-1SU
END:DAYLIGHT
BEGIN:STANDARD
TZOFFSETFROM:+0200
TZOFFSETTO:+0100
TZNAME:CET
DTSTART:19701025T030000
RRULE:FREQ=YEARLY;BYMONTH=10;BYDAY=-1SU
END:STANDARD
END:VTIMEZONE
BEGIN:VEVENT
UID:2485226:Event:177418
DTSTAMP:20260420T174040Z
SUMMARY:Atelier sur le vinaigre et ses bienfaits 
DESCRIPTION:SAMEDI 5 FEVRIER chez PLANETE BEAUTE -Venez découvrir et 
 réaliser des recettes autour du vinaigre(culinaires et thérapeutique
 s)-Dégustation oenologique de divers vinaigreChaque participant repar
 t avec une composition de son choix et son glossaire,pour s'exercer en
 suite chez lui !25 euros/pers.MC CUEVA Naturopathe Iridologue Plus qu
 e quelques places!Dépêchez-vous....\nmcnaturo@gmail.com\n\nPour plus
  d'information, aller sur https://epanews.fr/events/atelier-sur-le-vin
 aigre-et-ses
DTSTART;TZID=Europe/Paris:20110205T090000
DTEND;TZID=Europe/Paris:20110205T113000
CATEGORIES:30
LOCATION:NIMES
WEBSITE:
URL:
CONTACT:06 18 70 29 02
ORGANIZER;CN="LANGGUTH CUEVA":https://epanews.fr/profile/LANGGUTHCUEVA
ATTACH;FMTTYPE="image/jpeg":http://storage.ning.com/topology/rest/1.0/
 file/get/1662370205?profile=original
ATTENDEE;ROLE=REQ-PARTICIPANT;PARTSTAT=ACCEPTED;RSVP=TRUE;CN="LANGGUTH
  CUEVA":https://epanews.fr/profile/LANGGUTHCUEVA
END:VEVENT
END:VCALENDAR
