BEGIN:VCALENDAR
PRODID:NingEventWidget-v1
VERSION:2.0
METHOD:PUBLISH
BEGIN:VTIMEZONE
TZID:Europe/Paris
X-LIC-LOCATION:Europe/Paris
BEGIN:DAYLIGHT
TZOFFSETFROM:+0100
TZOFFSETTO:+0200
TZNAME:CEST
DTSTART:19700329T020000
RRULE:FREQ=YEARLY;BYMONTH=3;BYDAY=-1SU
END:DAYLIGHT
BEGIN:STANDARD
TZOFFSETFROM:+0200
TZOFFSETTO:+0100
TZNAME:CET
DTSTART:19701025T030000
RRULE:FREQ=YEARLY;BYMONTH=10;BYDAY=-1SU
END:STANDARD
END:VTIMEZONE
BEGIN:VEVENT
UID:2485226:Event:974699
DTSTAMP:20260423T203939Z
SUMMARY:la voix, un outil à maîtriser
DESCRIPTION:ATELIER ouvert à tous\nLa Voix est un outil précieux qui
 , dans sa maîtrise, nous permet de vivre une force tranquille, nous d
 onnant à entendre les nuances de nos expressions.\n\nLe souffle, quan
 t à lui, lorsqu'il est utilisé de manière optimale, apporte détent
 e et souplesse permettant à l'équilibre de prendre toute sa dimensio
 n.\nLe langage est un moyen d'exprimer et de communiquer nos pensées.
  Bien souvent, nous sommes des orateurs maladroits. La timidité, le t
 rac, le manque de confiance en soi placent l'individu en retrait, voir
  en échec. Les exemples sont nombreux, que ceux-ci soient d'ordre pro
 fessionnel ou privé, où la conjugaison des verbes Oser et Etre ne so
 nt pas facile.\nLe chant, quant à lui, permet de partager nos émotio
 ns. Nous aimerions souvent entendre notre voix, pleine, puissante et d
 ouce, libre, accordée qui nous ressemble et nous assemble.\n\nPour pa
 llier à ces difficultés, je vous propose des outils techniques et un
 e pédagogie ludique, tous deux forts de mes nombreuses années de tra
 vail et de recherche.\n\nPour plus d'information, aller sur https://ep
 anews.fr/events/atelier-sur-la-voix-samedi-27-octobre-2012-de-14h-17h
DTSTART;TZID=Europe/Paris:20121027T120000
DTEND;TZID=Europe/Paris:20121027T190000
CATEGORIES:30
LOCATION:carnas
WEBSITE:
URL:
CONTACT:
ORGANIZER;CN="Scarabin Pascale":https://epanews.fr/profile/ScarabinPas
 cale
ATTACH;FMTTYPE="image/jpeg":
ATTENDEE;ROLE=REQ-PARTICIPANT;PARTSTAT=ACCEPTED;RSVP=TRUE;CN="Scarabin
  Pascale":https://epanews.fr/profile/ScarabinPascale
END:VEVENT
END:VCALENDAR
