BEGIN:VCALENDAR
PRODID:NingEventWidget-v1
VERSION:2.0
METHOD:PUBLISH
BEGIN:VTIMEZONE
TZID:Europe/Paris
X-LIC-LOCATION:Europe/Paris
BEGIN:DAYLIGHT
TZOFFSETFROM:+0100
TZOFFSETTO:+0200
TZNAME:CEST
DTSTART:19700329T020000
RRULE:FREQ=YEARLY;BYMONTH=3;BYDAY=-1SU
END:DAYLIGHT
BEGIN:STANDARD
TZOFFSETFROM:+0200
TZOFFSETTO:+0100
TZNAME:CET
DTSTART:19701025T030000
RRULE:FREQ=YEARLY;BYMONTH=10;BYDAY=-1SU
END:STANDARD
END:VTIMEZONE
BEGIN:VEVENT
UID:2485226:Event:2993721
DTSTAMP:20260424T114555Z
SUMMARY:Atelier sur l'Enfant Intérieur
DESCRIPTION:Apprenez à guérir les manques que vous avez ressentis en
 fant : manque d'amour, manque de reconnaissance, manque de sécurité,
  manque de contrôle. Si un enfant ne s'est pas senti désiré, s'il n
 e s'est pas senti aimé, accepté, soutenu, reconnu, s'il a perdu jeun
 e un parent, alors il va rester avec des blessures qui parfois ne part
 ent jamais. En grandissant, on comprend, on peut même décider de se 
 faire aider, mais c'est l'adulte qui fait cette démarche, le petit en
 fant reste souffrant à l'intérieur.Il peut même devenir une deuxiè
 me personnalité. Pendant trois jours, nous apprenons à reconnaitre s
 es programmes et les guérir avec une technique simple accessible à t
 out le monde. Toutes les infos sont sur mon site: https://www.coolthet
 a.com/atelier-enfant-interieur.\n\nPour plus d'information, aller sur 
 https://epanews.fr/events/atelier-sur-l-enfant-int-rieur-1
DTSTART;TZID=Europe/Paris:20181214T000000
DTEND;TZID=Europe/Paris:20181216T235900
CATEGORIES:85
LOCATION:Mareuil-sur-Lay, Vendée
WEBSITE:
URL:
CONTACT:
ORGANIZER;CN=CoolTheta:https://epanews.fr/profile/CoolTheta
ATTACH;FMTTYPE="image/jpeg":http://storage.ning.com/topology/rest/1.0/
 file/get/1663765788?profile=original
ATTENDEE;ROLE=REQ-PARTICIPANT;PARTSTAT=ACCEPTED;RSVP=TRUE;CN=CoolTheta
 :https://epanews.fr/profile/CoolTheta
END:VEVENT
END:VCALENDAR
