BEGIN:VCALENDAR
PRODID:NingEventWidget-v1
VERSION:2.0
METHOD:PUBLISH
BEGIN:VTIMEZONE
TZID:Europe/Paris
X-LIC-LOCATION:Europe/Paris
BEGIN:DAYLIGHT
TZOFFSETFROM:+0100
TZOFFSETTO:+0200
TZNAME:CEST
DTSTART:19700329T020000
RRULE:FREQ=YEARLY;BYMONTH=3;BYDAY=-1SU
END:DAYLIGHT
BEGIN:STANDARD
TZOFFSETFROM:+0200
TZOFFSETTO:+0100
TZNAME:CET
DTSTART:19701025T030000
RRULE:FREQ=YEARLY;BYMONTH=10;BYDAY=-1SU
END:STANDARD
END:VTIMEZONE
BEGIN:VEVENT
UID:2485226:Event:2085359
DTSTAMP:20260422T193038Z
SUMMARY:Atelier sophrologie : j'apprends à gérer mon stress pour bie
 n dormir
DESCRIPTION:Atelier sophrologie par Patricia Pouteau Sophrologue Perpi
 gnanVous avez de plus en plus de mal à rester calme,Vous vous irritez
  dés qu’on vous donne un avis, quel qu’il soit,Vous prenez tout d
 e travers,Vous pensez à vos problèmes en boucle, sans trouver aucune
  solution,Vous avez l’impression de manquer d’air par moment,TOUT 
 CECI EST LE SIGNE QUE LE STRESS GAGNE DU TERRAINJe vous propose un ate
 lier pour apprendre à vous détendre afin de vaincre votre stressA ce
 t atelier, un CD de relaxation, enregistré par mes soins, vous sera o
 ffertTarifs :40€ (non adhérents)35€ (adhérents)Si suivi des 2 at
 eliers stress70€ (non adhérents)Inscription www.larcencieldupartag
 e.org ou Nadège 06.23.01.35.96\n\nPour plus d'information, aller sur
  https://epanews.fr/events/atelier-sophrologie-j-apprends-g-rer-mon-st
 ress-pour-bien-dormir
DTSTART;TZID=Europe/Paris:20141122T140000
DTEND;TZID=Europe/Paris:20141122T173000
CATEGORIES:11
LOCATION:narbonne
WEBSITE:http://www.larcencieldupartage.org
URL:http://www.larcencieldupartage.org
CONTACT:0623013596
ORGANIZER;CN="L'arc en ciel du partage":https://epanews.fr/profile/Lar
 cencieldupartage
ATTACH;FMTTYPE="image/jpeg":http://storage.ning.com/topology/rest/1.0/
 file/get/1663235549?profile=original
ATTENDEE;ROLE=REQ-PARTICIPANT;PARTSTAT=ACCEPTED;RSVP=TRUE;CN="L'arc en
  ciel du partage":https://epanews.fr/profile/Larcencieldupartage
END:VEVENT
END:VCALENDAR
