BEGIN:VCALENDAR
PRODID:NingEventWidget-v1
VERSION:2.0
METHOD:PUBLISH
BEGIN:VTIMEZONE
TZID:Europe/Paris
X-LIC-LOCATION:Europe/Paris
BEGIN:DAYLIGHT
TZOFFSETFROM:+0100
TZOFFSETTO:+0200
TZNAME:CEST
DTSTART:19700329T020000
RRULE:FREQ=YEARLY;BYMONTH=3;BYDAY=-1SU
END:DAYLIGHT
BEGIN:STANDARD
TZOFFSETFROM:+0200
TZOFFSETTO:+0100
TZNAME:CET
DTSTART:19701025T030000
RRULE:FREQ=YEARLY;BYMONTH=10;BYDAY=-1SU
END:STANDARD
END:VTIMEZONE
BEGIN:VEVENT
UID:2485226:Event:1349442
DTSTAMP:20260422T094700Z
SUMMARY:Atelier sophrologie et sexualitÃ© - RÃ©servÃ© aux femmes
DESCRIPTION:Sophro-relaxation et sexualitÃ© spÃ©ciale femmes \n\nÂ \nD
 ans un espace protÃ©gÃ© et accueillant, venez parler de vos difficultÃ
 ©s en matiÃ¨re de sexualitÃ©. Les groupes de petite taille (maximum 5 
 participantes) permettent Ã  chacune un temps de parole convenable en 
 toute confidentialitÃ© et sÃ©curitÃ©.\nÂ \nJe vous propose de confront
 er vos points de vue, de bÃ©nÃ©ficier des expÃ©riences des autres part
 icipantes et d'Ã©changer sans tabous.\nÂ \nLa sÃ©ance de 14h30 Ã  17h 
 nous permettra d'aborder les thÃ¨mes suivants :\n- tour de table des p
 articipantes, attente pour cette sÃ©ance\n- dÃ©bat sur le dÃ©sir fÃ©mi
 nin, l'acte sexuel et l'Ã©panouissement ou la frustration\n- Voyage so
 phronique pour renforcer l'amour\n- L'amour ce sentiment merveilleuxÂ 
  qui peut faire mal et l'amour fraternel et hÃ©roique\n-Voyage sophron
 ique pour une ouverture du corps et du coeur\nÂ \nLa sÃ©ance coÃ»te 20
  â‚¬. Chacune peut apporter une petite douceur pour agrÃ©menter ce par
 tage au fÃ©minin.\nÂ \nAppelez moi au 0684518378, je vous demande de m
 'envoyer 8â‚¬ d'arrhes pour confirmer votre prÃ©sence.\nÂ \nÂ \nÂ \n\n
 Pour plus d'information, aller sur https://epanews.fr/events/atelier-s
 ophrologie-et-sexualit-r-serv-aux-femmes
DTSTART;TZID=Europe/Paris:20130526T143000
DTEND;TZID=Europe/Paris:20130526T170000
CATEGORIES:78
LOCATION:Espace Le Domen d'Eve
WEBSITE:
URL:
CONTACT:0684518378
ORGANIZER;CN=Domendeve:https://epanews.fr/profile/Domendeve
ATTACH;FMTTYPE="image/jpeg":
ATTENDEE;ROLE=REQ-PARTICIPANT;PARTSTAT=ACCEPTED;RSVP=TRUE;CN=Domendeve
 :https://epanews.fr/profile/Domendeve
END:VEVENT
END:VCALENDAR
