BEGIN:VCALENDAR
PRODID:NingEventWidget-v1
VERSION:2.0
METHOD:PUBLISH
BEGIN:VTIMEZONE
TZID:Europe/Paris
X-LIC-LOCATION:Europe/Paris
BEGIN:DAYLIGHT
TZOFFSETFROM:+0100
TZOFFSETTO:+0200
TZNAME:CEST
DTSTART:19700329T020000
RRULE:FREQ=YEARLY;BYMONTH=3;BYDAY=-1SU
END:DAYLIGHT
BEGIN:STANDARD
TZOFFSETFROM:+0200
TZOFFSETTO:+0100
TZNAME:CET
DTSTART:19701025T030000
RRULE:FREQ=YEARLY;BYMONTH=10;BYDAY=-1SU
END:STANDARD
END:VTIMEZONE
BEGIN:VEVENT
UID:2485226:Event:441835
DTSTAMP:20260421T190729Z
SUMMARY:Ateliers \"Soins de LumiÃ¨re\" du 23 au 28 septembre 2011 Ã  C
 harleroi (Belgique)
DESCRIPTION:Atelier sur trois soirs:\nÂ \n- Soins de LumiÃ¨re et netto
 yage Ã©nergÃ©tique afin de se libÃ©rer des douleurs du passÃ© pour con
 tinuer sa route en Â conscience, augmenter son taux vibratoire, potent
 ialiser ses capacitÃ©s extrasensorielles, Â  retrouver la sÃ©rÃ©nitÃ© 
 et ainsi, laisser la Vie et ses synchronicitÃ©s ( \"hasards\", \"coÃ¯n
 cidences\") se manifester\nÂ \nÂ - Travail sur la libÃ©ration des peur
 s afin de se dÃ©gager de ce qui limite et de crÃ©er en conscience son 
 futur\nÂ \nÂ - Rencontre avec les ÃŠtres de LumiÃ¨re et ses proches dÃ
 ©sincarnÃ©s\nÂ \nÂ - Travail sur les lignes temporelles afin d'Ãªtre p
 leinement auteur et acteur de son futur\nÂ \nÂ \nDates des ateliers:\n
 Â \n-23, 25 et 28 septembre 2011\n-24, 26 et 29 septembre 2011\nÂ \nÂ 
 \nLieu: Monceau sur Sambre (prÃ¨s du parc Victor Corbier)\nÂ \nEchange
  demandÃ©: 150 euros\nÂ \nInscriptions et renseignements: +336 74 35 4
 1 17 / mail: mathyssmedium@gmail.com\nÂ \nÃ  l'occasion de ma venue en
  Belgique, je donnerai une confÃ©rence sur sa pratique le 22Â septembr
 e Ã  19h30 Ã  l'espace \"Coeur d'AmÃ©thyste\" Rue du collÃ¨ge 10 Ã  Ch
 arleroi (entrÃ©e libre)\nÂ \nÂ \n\nPour plus d'information, aller sur 
 https://epanews.fr/events/atelier-soins-de-lumi-re-du-23
DTSTART;TZID=Europe/Paris:20110923T203000
DTEND;TZID=Europe/Paris:20110928T234500
CATEGORIES:belgique
LOCATION:Monceau sur Sambre
WEBSITE:http://www.mathyssmedium.com/
URL:http://www.mathyssmedium.com/
CONTACT:+336 74 35 41 17
ORGANIZER;CN="Guillaume DoucerÃ¨, clairvoyant":https://epanews.fr/prof
 ile/GuillaumeDoucere
ATTACH;FMTTYPE="image/jpeg":http://storage.ning.com/topology/rest/1.0/
 file/get/1662441772?profile=original
ATTENDEE;ROLE=REQ-PARTICIPANT;PARTSTAT=ACCEPTED;RSVP=TRUE;CN="Guillaum
 e DoucerÃ¨, clairvoyant":https://epanews.fr/profile/GuillaumeDoucere
END:VEVENT
END:VCALENDAR
