BEGIN:VCALENDAR
PRODID:NingEventWidget-v1
VERSION:2.0
METHOD:PUBLISH
BEGIN:VTIMEZONE
TZID:Europe/Paris
X-LIC-LOCATION:Europe/Paris
BEGIN:DAYLIGHT
TZOFFSETFROM:+0100
TZOFFSETTO:+0200
TZNAME:CEST
DTSTART:19700329T020000
RRULE:FREQ=YEARLY;BYMONTH=3;BYDAY=-1SU
END:DAYLIGHT
BEGIN:STANDARD
TZOFFSETFROM:+0200
TZOFFSETTO:+0100
TZNAME:CET
DTSTART:19701025T030000
RRULE:FREQ=YEARLY;BYMONTH=10;BYDAY=-1SU
END:STANDARD
END:VTIMEZONE
BEGIN:VEVENT
UID:2485226:Event:441567
DTSTAMP:20260422T205205Z
SUMMARY:Atelier Â« Soins de LumiÃ¨re Â» Ã  Tarascon sur AriÃ¨ge (09)
DESCRIPTION:Atelier sur trois soirs:\nÂ \n- Soins de LumiÃ¨re et netto
 yage Ã©nergÃ©tique afin de se libÃ©rer des douleurs du passÃ© pour con
 tinuer sa route en Â conscience, augmenter son taux vibratoire, potent
 ialiser ses capacitÃ©s extrasensorielles, Â  retrouver la sÃ©rÃ©nitÃ© 
 et ainsi, laisser la Vie et ses synchronicitÃ©s ( \"hasards\", \"coÃ¯n
 cidences\") se manifester\nÂ \nÂ - Travail sur la libÃ©ration des peur
 s afin de se dÃ©gager de ce qui limite et de crÃ©er en conscience son 
 futur\nÂ \nÂ - Rencontre avec les ÃŠtres de LumiÃ¨re et ses proches dÃ
 ©sincarnÃ©s\nÂ \nÂ - Travail sur les lignes temporelles afin d'Ãªtre p
 leinement auteur et acteur de son futur\nÂ \nÂ dates de l'atelier (Pos
 sibilitÃ© de consultations individuelles sur lesÂ lieux d'ateliers dur
 ant ces dates):\nÂ \n* 12, 14 et 17 octobre 2011 Ã  20h30\nÂ \nEchange
  demandÃ©: 150 euros\nÂ \nInscriptions et renseignements: +336 74 35 4
 1 17 / mail: mathyssmedium@gmail.com\nÂ \nToutes les informations sur 
 mathyssmedium.com\nÂ \nÂ NB: Â Si vous souhaitez mettre en place des a
 teliers dans votre rÃ©gion, n'hÃ©sitez pas Ã  me contacter.\n\nPour pl
 us d'information, aller sur https://epanews.fr/events/atelier-soins-de
 -lumi-re-2
DTSTART;TZID=Europe/Paris:20111012T203000
DTEND;TZID=Europe/Paris:20111017T234500
CATEGORIES:09
LOCATION:Tarascon sur AriÃ¨ge
WEBSITE:http://www.mathyssmedium.com/
URL:http://www.mathyssmedium.com/
CONTACT:06 74 35 41 17
ORGANIZER;CN="Guillaume DoucerÃ¨, clairvoyant":https://epanews.fr/prof
 ile/GuillaumeDoucere
ATTACH;FMTTYPE="image/jpeg":http://storage.ning.com/topology/rest/1.0/
 file/get/1662442161?profile=original
ATTENDEE;ROLE=REQ-PARTICIPANT;PARTSTAT=ACCEPTED;RSVP=TRUE;CN="Guillaum
 e DoucerÃ¨, clairvoyant":https://epanews.fr/profile/GuillaumeDoucere
END:VEVENT
END:VCALENDAR
