BEGIN:VCALENDAR
PRODID:NingEventWidget-v1
VERSION:2.0
METHOD:PUBLISH
BEGIN:VTIMEZONE
TZID:Europe/Paris
X-LIC-LOCATION:Europe/Paris
BEGIN:DAYLIGHT
TZOFFSETFROM:+0100
TZOFFSETTO:+0200
TZNAME:CEST
DTSTART:19700329T020000
RRULE:FREQ=YEARLY;BYMONTH=3;BYDAY=-1SU
END:DAYLIGHT
BEGIN:STANDARD
TZOFFSETFROM:+0200
TZOFFSETTO:+0100
TZNAME:CET
DTSTART:19701025T030000
RRULE:FREQ=YEARLY;BYMONTH=10;BYDAY=-1SU
END:STANDARD
END:VTIMEZONE
BEGIN:VEVENT
UID:2485226:Event:1015824
DTSTAMP:20260419T142306Z
SUMMARY:Atelier “Senteurs de bien-être” le 15 Novembre à Lyon-Vi
 lleurbanne
DESCRIPTION:Un atelier olfactif, pour respirer le bien-être.- Explore
 z les mystères de l’odorat et des parfums- Respirez les huiles esse
 ntielles qui apaisent les émotions et vous harmonisent- Relaxez-vous 
 grâce aux senteurs et développez vos perceptions intérieuresLes sen
 teurs (huiles essentielles, encens, parfums) ont des effets reconnus s
 ur le plan psycho-émotionnel. Elles sont particulièrement efficaces 
 pour raviver des souvenirs anciens ou pour contacter et apaiser les é
 motions. Elles facilitent également l’accès aux ressources intéri
 eures de l’être pour générer l’harmonie en soi et stimuler l’
 évolution personnelle. Leur utilisation par voie olfactive est simple
 , pratique et accessible à tous.Au programme : - Exercices ludiques p
 our mieux percevoir, connaître et mémoriser les odeurs- Découverte 
 et cours sur les huiles essentielles utilisées en olfacto-thérapie- 
 Relaxation olfactive à la fin de chaque atelierTarif :  20 €  (14
  € si c’est votre premier atelier)\n\nPour plus d'information, all
 er sur https://epanews.fr/events/atelier-senteurs-de-bien-tre-le-15-no
 vembre-lyon-villeurbanne
DTSTART;TZID=Europe/Paris:20121115T173000
DTEND;TZID=Europe/Paris:20121115T190000
CATEGORIES:69
LOCATION:Lyon - Villeurbanne  (métro Charpennes)
WEBSITE:
URL:
CONTACT:04.72.33.34.85
ORGANIZER:Thierry Petitbon - Conseil en harmonisation olfactive
ATTACH;FMTTYPE="image/jpeg":http://storage.ning.com/topology/rest/1.0/
 file/get/1662694055?profile=original
ATTENDEE;ROLE=REQ-PARTICIPANT;PARTSTAT=ACCEPTED;RSVP=TRUE;CN="Zélia A
 lhéna":https://epanews.fr/profile/DavidKo
END:VEVENT
END:VCALENDAR
