BEGIN:VCALENDAR
PRODID:NingEventWidget-v1
VERSION:2.0
METHOD:PUBLISH
BEGIN:VTIMEZONE
TZID:Europe/Paris
X-LIC-LOCATION:Europe/Paris
BEGIN:DAYLIGHT
TZOFFSETFROM:+0100
TZOFFSETTO:+0200
TZNAME:CEST
DTSTART:19700329T020000
RRULE:FREQ=YEARLY;BYMONTH=3;BYDAY=-1SU
END:DAYLIGHT
BEGIN:STANDARD
TZOFFSETFROM:+0200
TZOFFSETTO:+0100
TZNAME:CET
DTSTART:19701025T030000
RRULE:FREQ=YEARLY;BYMONTH=10;BYDAY=-1SU
END:STANDARD
END:VTIMEZONE
BEGIN:VEVENT
UID:2485226:Event:2706575
DTSTAMP:20260422T200030Z
SUMMARY:atelier se soigner naturellement
DESCRIPTION:Atelier Se soigner naturellement par Marie Anne Dufeu \nM
 ercredi 26 octobre 2016 de de 14h00 à 17h00 \nPar habitude ou par tr
 adition familiale, nous sommes nombreux à nous être mis dans la situ
 ation où nous attendons d'être bien malade pour nous soigner ! \nPo
 urtant, il existe des moyens simples, efficaces de prévenir la surven
 ue de la maladie. \nLors de cet atelier, nous verrons comment prendre
  soin de nous et de notre entourage en utilisant des produits naturels
  trouvés dans la campagne, dans les herboristeries et dans les pharma
 cies. \nUn atelier pour soi, pour toute la famille et les amis .... 
 \nTarifs atelier Non Adhérent 25€ Adhérent 20€ \nInscriptions N
 adège 06.23.01.35.96 ou larcencieldupartage@sfr.fr \nlieu : l'arc en
  ciel du partage - 1 rue garancière 11100 narbonnewww.larcencieldupar
 tage.org\n\nPour plus d'information, aller sur https://epanews.fr/even
 ts/atelier-se-soigner-naturellement-1
DTSTART;TZID=Europe/Paris:20161026T140000
DTEND;TZID=Europe/Paris:20161026T170000
CATEGORIES:11
LOCATION:narbonne
WEBSITE:http://www.larcencieldupartage.org
URL:http://www.larcencieldupartage.org
CONTACT:0623013596
ORGANIZER;CN="L'arc en ciel du partage":https://epanews.fr/profile/Lar
 cencieldupartage
ATTACH;FMTTYPE="image/jpeg":http://storage.ning.com/topology/rest/1.0/
 file/get/1663597488?profile=original
ATTENDEE;ROLE=REQ-PARTICIPANT;PARTSTAT=ACCEPTED;RSVP=TRUE;CN="L'arc en
  ciel du partage":https://epanews.fr/profile/Larcencieldupartage
END:VEVENT
END:VCALENDAR
