BEGIN:VCALENDAR
PRODID:NingEventWidget-v1
VERSION:2.0
METHOD:PUBLISH
BEGIN:VTIMEZONE
TZID:Europe/Paris
X-LIC-LOCATION:Europe/Paris
BEGIN:DAYLIGHT
TZOFFSETFROM:+0100
TZOFFSETTO:+0200
TZNAME:CEST
DTSTART:19700329T020000
RRULE:FREQ=YEARLY;BYMONTH=3;BYDAY=-1SU
END:DAYLIGHT
BEGIN:STANDARD
TZOFFSETFROM:+0200
TZOFFSETTO:+0100
TZNAME:CET
DTSTART:19701025T030000
RRULE:FREQ=YEARLY;BYMONTH=10;BYDAY=-1SU
END:STANDARD
END:VTIMEZONE
BEGIN:VEVENT
UID:2485226:Event:1785510
DTSTAMP:20260421T212639Z
SUMMARY:Atelier \"Se libérer de la culpabilité\" de l'école Écoute
  Ton Corps
DESCRIPTION:À Strasbourg, ateliers de l'École Écoute Ton Corps, fon
 dée par Lise Bourbeau\nBien être, Développement personnel  31 mars 
 & 1er avril Se libérer de la culpabilité  Avec Lucie Barbier, format
 rice de l'école  Pour renseignements, inscription: Anne-Claire 06 81 
 03 90 29 Émeline 06 84 48 92 36 par mail etcalsace@gmail.com Visitez 
 notre site www.ecoutetoncorps.com Facebook www.facebook.com/EcouteTo
 nCorpsAlsace\n\nPour plus d'information, aller sur https://epanews.fr/
 events/atelier-se-lib-rer-de-la-culpabilit-de-l-cole-coute-ton-corps
DTSTART;TZID=Europe/Paris:20140331T090000
DTEND;TZID=Europe/Paris:20140401T173000
CATEGORIES:67, 68, 57, 54, 88, 90
LOCATION:Hôtel Kyriad Palais des Congrès
WEBSITE:http://www.kyriad.com/fr/hotels/kyriad-strasbourg-nord-palais-
 des-congres?utm_source=google&utm_medium=maps&utm_content=FRA23244&utm
 _campaign=Kyriad
URL:http://www.kyriad.com/fr/hotels/kyriad-strasbourg-nord-palais-des-
 congres?utm_source=google&utm_medium=maps&utm_content=FRA23244&utm_cam
 paign=Kyriad
CONTACT:06 81 03 90 29
ORGANIZER;CN=Anne-Claire:https://epanews.fr/profile/AnneClaire
ATTACH;FMTTYPE="image/jpeg":http://storage.ning.com/topology/rest/1.0/
 file/get/1663062014?profile=original
ATTENDEE;ROLE=REQ-PARTICIPANT;PARTSTAT=ACCEPTED;RSVP=TRUE;CN=Anne-Clai
 re:https://epanews.fr/profile/AnneClaire
END:VEVENT
END:VCALENDAR
