BEGIN:VCALENDAR
PRODID:NingEventWidget-v1
VERSION:2.0
METHOD:PUBLISH
BEGIN:VTIMEZONE
TZID:Europe/Paris
X-LIC-LOCATION:Europe/Paris
BEGIN:DAYLIGHT
TZOFFSETFROM:+0100
TZOFFSETTO:+0200
TZNAME:CEST
DTSTART:19700329T020000
RRULE:FREQ=YEARLY;BYMONTH=3;BYDAY=-1SU
END:DAYLIGHT
BEGIN:STANDARD
TZOFFSETFROM:+0200
TZOFFSETTO:+0100
TZNAME:CET
DTSTART:19701025T030000
RRULE:FREQ=YEARLY;BYMONTH=10;BYDAY=-1SU
END:STANDARD
END:VTIMEZONE
BEGIN:VEVENT
UID:2485226:Event:2858680
DTSTAMP:20260421T145740Z
SUMMARY:atelier :se libÃ©rer de ce qui nous limite par l'approche matr
 icielle
DESCRIPTION:La dynamique matricielle est un outil vibratoire puissant 
 unifiant les Sciences modernes et les Traditions ancestrales actualisÃ
 ©es qui permet d'harmoniser les plans physiques,psychiques et spiritue
 ls de notre Etre dans un lien conscient d'unicitÃ© avec l'Univers.\nOb
 jectif :Â \n-prÃ©sentation simplifiÃ©e des concepts fondateurs de l'ap
 proche matricielle (trilogie de l'Univers,Champ de tous les Possibles,
 approche quantique Onde-Particule...)\n-expÃ©rimentation par la pratiq
 ue des outils matriciels vibratoires(Rythme du silence,Vortex,Matrices
  Agissantes chantÃ©es...) et biophysiques (matelas matricialisÃ©,CD,cl
 Ã©s USB...)\nTARIF:60â‚¬ Â  Â possibilitÃ© de repas bio : 12â‚¬ (rÃ©se
 rvation Ã  l'inscription)\ninscription par mail:claudette.florenza@wan
 adoo.fr ou par tel:06 09 99 10 95\ndate limite inscription: 27-08-2017
 \n\n\n\nPour plus d'information, aller sur https://epanews.fr/events/a
 telier-se-lib-rer-de-ce-qui-nous-limite-par-l-approche
DTSTART;TZID=Europe/Paris:20170903T060000
DTEND;TZID=Europe/Paris:20170903T180000
CATEGORIES:13
LOCATION:AIX EN PROVENCE
WEBSITE:https://www.google.fr/maps/place/Le+Clos+du+Bien+Etre/@43.4998
 814,5.4525263,17z/data=!3m1!4b1!4m5!3m4!1s0x12c99272fa8257db:0xf0906e1
 d88f7b73e!8m2!3d43.4998814!4d5.454715?hl=fr
URL:https://www.google.fr/maps/place/Le+Clos+du+Bien+Etre/@43.4998814,
 5.4525263,17z/data=!3m1!4b1!4m5!3m4!1s0x12c99272fa8257db:0xf0906e1d88f
 7b73e!8m2!3d43.4998814!4d5.454715?hl=fr
CONTACT:06 09 99 10 95
ORGANIZER;CN="CLAUDETTE FLORENZA":https://epanews.fr/profile/CLAUDETTE
 FLORENZA
ATTACH;FMTTYPE="image/jpeg":http://storage.ning.com/topology/rest/1.0/
 file/get/1663680444?profile=original
ATTENDEE;ROLE=REQ-PARTICIPANT;PARTSTAT=ACCEPTED;RSVP=TRUE;CN="CLAUDETT
 E FLORENZA":https://epanews.fr/profile/CLAUDETTEFLORENZA
END:VEVENT
END:VCALENDAR
