BEGIN:VCALENDAR
PRODID:NingEventWidget-v1
VERSION:2.0
METHOD:PUBLISH
BEGIN:VTIMEZONE
TZID:Europe/Paris
X-LIC-LOCATION:Europe/Paris
BEGIN:DAYLIGHT
TZOFFSETFROM:+0100
TZOFFSETTO:+0200
TZNAME:CEST
DTSTART:19700329T020000
RRULE:FREQ=YEARLY;BYMONTH=3;BYDAY=-1SU
END:DAYLIGHT
BEGIN:STANDARD
TZOFFSETFROM:+0200
TZOFFSETTO:+0100
TZNAME:CET
DTSTART:19701025T030000
RRULE:FREQ=YEARLY;BYMONTH=10;BYDAY=-1SU
END:STANDARD
END:VTIMEZONE
BEGIN:VEVENT
UID:2485226:Event:701122
DTSTAMP:20260424T002212Z
SUMMARY:Atelier Sculpture en terre, projet et création
DESCRIPTION:Cette journée sera dédiée à la mise en oeuvre de vos e
 nvies, de vos idées de créations, grâce à un accompagnement techni
 que (modelage et sculpture de la terre) et artistique (proportion, ana
 tomie, esthétique), et au jeu du regard que l’on peut accorder à s
 a propre production.\nTarif : 75 euros matériel et cuisson compris (3
 0 euros à l’inscription) Groupe de 3 personnes. Une 2ème journée 
 est prévue (suite de ce travail) le 17 Mars.\nAtelier CREARTH, créat
 ion et art thérapie\nhttp://isabellevautrin.fr\n\nPour plus d'informa
 tion, aller sur https://epanews.fr/events/atelier-sculpture-en-terre-p
 rojet-et-cr-ation
DTSTART;TZID=Europe/Paris:20120225T130000
DTEND;TZID=Europe/Paris:20120225T180000
CATEGORIES:27
LOCATION:Pacy/eure
WEBSITE:
URL:
CONTACT:
ORGANIZER;CN="Isabelle Vautrin":https://epanews.fr/profile/IsabelleVau
 trin
ATTACH;FMTTYPE="image/jpeg":
ATTENDEE;ROLE=REQ-PARTICIPANT;PARTSTAT=ACCEPTED;RSVP=TRUE;CN="Isabelle
  Vautrin":https://epanews.fr/profile/IsabelleVautrin
END:VEVENT
END:VCALENDAR
