BEGIN:VCALENDAR
PRODID:NingEventWidget-v1
VERSION:2.0
METHOD:PUBLISH
BEGIN:VTIMEZONE
TZID:Europe/Paris
X-LIC-LOCATION:Europe/Paris
BEGIN:DAYLIGHT
TZOFFSETFROM:+0100
TZOFFSETTO:+0200
TZNAME:CEST
DTSTART:19700329T020000
RRULE:FREQ=YEARLY;BYMONTH=3;BYDAY=-1SU
END:DAYLIGHT
BEGIN:STANDARD
TZOFFSETFROM:+0200
TZOFFSETTO:+0100
TZNAME:CET
DTSTART:19701025T030000
RRULE:FREQ=YEARLY;BYMONTH=10;BYDAY=-1SU
END:STANDARD
END:VTIMEZONE
BEGIN:VEVENT
UID:2485226:Event:761930
DTSTAMP:20260424T173905Z
SUMMARY:Atelier Savitri: \"MÃ©ditations derviches, sons et lumiÃ¨res\"
DESCRIPTION:\n\n\nUn cycle dâ€™ateliers de danses libres et de mÃ©dita
 tionsÂ \nguidÃ©es par le son et la lumiÃ¨re\nPar Hierophantes (Yves-Ma
 rie Lâ€™Hour & Benoit Meudic)\nwww.hierophantes.net\nInscription uniqu
 ement par tÃ©lÃ©phone: 0698393588\n- Information: contact@hierophantes
 .net\nTarif: 20 euros\n-------\nExpÃ©rimenter les possibilitÃ©s de ren
 contre entre technologies contemporaines de synthÃ¨se numÃ©rique et pr
 atiques mystiques des Ã©tats modifiÃ©s de conscience, entre transes et
  mÃ©ditations actives, dans la lignÃ©e des recherches et expÃ©rimentat
 ions de Gurdjieff, Osho, Wilheim Reich, Rudolf Steiner, Stanislav Grof
 , Terence McKenna, John Lilly, Timothy Leary...\n\nCe cycle dâ€™atelie
 rs sâ€™articulera autour des deux axes dâ€™expÃ©rimentation et de rech
 erche :\nâ€¢ Une pratique expÃ©rimentale de danses et de mÃ©ditations 
 guidÃ©es par des technologies multi-sensorielles de synthÃ¨ses numÃ©ri
 ques ;\nâ€¢ Une exploration de lâ€™apport des technologies numÃ©riques
  pour lâ€™induction dirigÃ©e dâ€™Ã©tats modifiÃ©s de perception (hallu
 cinations, rÃªves Ã©veillÃ©s, transesâ€¦).Â \n------\nA propos de lâ€™
 ensemble Hierophantes (www.hierophantes.net)\nLâ€™ensemble HiÃ©rophant
 es a Ã©tÃ© constituÃ© en 2008 par Yves-Marie Lâ€™Hour (Yulhe) et Benoi
 t Meudic (Baldm) afin de mener une recherche artistique sur l'Ã©tude d
 es relations entre langages du son et langages de lâ€™image Ã  partir 
 des technologies de synthÃ¨se numÃ©rique.\nLes Å“uvres et expÃ©rimenta
 tions crÃ©Ã©es Ã  lâ€™occasion de ces recherches au cours des quatre d
 erniÃ¨res annÃ©es ont pris la forme d'installations et de performances
  multimÃ©dia comportant le plus souvent une dimension participative et
  immersive importante et en appelant Ã  diffÃ©rentes modalitÃ©s sensor
 ielles du corps (vue, ouÃ¯e, toucherâ€¦.). Les technologies employÃ©es
  Ã  cette fin vont de la projection stÃ©rÃ©oscopique d'images en relie
 f Ã  la spatialisation sonore en passant par la diffusion de parfums o
 u lâ€™Ã©laboration dâ€™interfaces de contrÃ´le gestuel des univers aud
 io et vidÃ©o.Â \n\nCes rÃ©alisations interrogent la possibilitÃ© de su
 sciter et d'explorer chez les participants des Ã©tats singuliers de pe
 rception et de conscience en crÃ©ant des rÃ©sonances entre des percept
 s sensoriels et des sentiments, des Ã©motions ou des intuitions, sans 
 rÃ©fÃ©rence conceptuelle, verbale ou figurative. Les performances et Å
 “uvres rÃ©alisÃ©es par Hierophantes prennent la forme de rituels qui c
 onstituent, comme les MystÃ¨res de lâ€™AntiquitÃ©, une invitation au v
 oyage intÃ©rieur. Dans chacune de ces Å“uvres, le flux sensible des so
 ns, des images et des parfums vient chercher le participant et lâ€™inv
 ite Ã  explorer les paysages subjectifs de sa propre rÃªverie intÃ©rie
 ure.\n\n\n\n\n\nPour plus d'information, aller sur https://epanews.fr/
 events/atelier-savitri-m-ditations-derviches-sons-et-lumi-res
DTSTART;TZID=Europe/Paris:20120415T140000
DTEND;TZID=Europe/Paris:20120415T180000
CATEGORIES:75
LOCATION:Paris
WEBSITE:http://www.leregarducygne.com/
URL:http://www.leregarducygne.com/
CONTACT:0698393588
ORGANIZER;CN=baldm:https://epanews.fr/profile/baldm
ATTACH;FMTTYPE="image/jpeg":http://storage.ning.com/topology/rest/1.0/
 file/get/1662591727?profile=original
ATTENDEE;ROLE=REQ-PARTICIPANT;PARTSTAT=ACCEPTED;RSVP=TRUE;CN=baldm:htt
 ps://epanews.fr/profile/baldm
END:VEVENT
END:VCALENDAR
