BEGIN:VCALENDAR
PRODID:NingEventWidget-v1
VERSION:2.0
METHOD:PUBLISH
BEGIN:VTIMEZONE
TZID:Europe/Paris
X-LIC-LOCATION:Europe/Paris
BEGIN:DAYLIGHT
TZOFFSETFROM:+0100
TZOFFSETTO:+0200
TZNAME:CEST
DTSTART:19700329T020000
RRULE:FREQ=YEARLY;BYMONTH=3;BYDAY=-1SU
END:DAYLIGHT
BEGIN:STANDARD
TZOFFSETFROM:+0200
TZOFFSETTO:+0100
TZNAME:CET
DTSTART:19701025T030000
RRULE:FREQ=YEARLY;BYMONTH=10;BYDAY=-1SU
END:STANDARD
END:VTIMEZONE
BEGIN:VEVENT
UID:2485226:Event:628893
DTSTAMP:20260423T220950Z
SUMMARY:atelier sauna+massage intuitif aux huiles chaudes
DESCRIPTION:C EST COMPLET\nAtelier SAUNA + MASSAGE INTUITIF\n\nLâ€™ass
 ociation est heureuse de vous proposer un atelier leÂ  15Â  janvier de
  14h00 Ã  18h00\nÂ \nPour la partie Sauna, il sâ€™agitÂ  dâ€™un appare
 il traditionnel en bois fonctionnant avec les pierres chaudes, pour 5 
 Ã  7 personnes maxi.\nPour la partie massage, il nâ€™est pas nÃ©cessai
 re de connaÃ®tre de technique particuliÃ¨re Ã  mettre en Å“uvre, simpl
 ement on se pose en prenant un temps pour soi tout enÂ  respectantÂ  l
 â€™autre.\nÂ \nLa tenueÂ : un parÃ©o pour le sauna et un maillot de ba
 in obligatoire pour le massage (pas de string) possibilitÃ© pour les d
 ames de nâ€™avoir quâ€™un bas de maillot.\nÂ \nVÃªtements et accessoir
 esÂ : Â Â  1 petite servietteÂ  pour vous sâ€™asseoir dans le sauna et
  un parÃ©o\nÂ Â Â Â Â Â Â Â Â Â Â Â Â Â Â Â Â Â Â Â Â Â Â Â Â Â Â Â Â 
 Â Â Â Â Â Â Â Â Â Â Â Â Â Â Â Â Â Â Â Â Â Â Â Â Â Â Â Â Â Â Â Â Â Â  1
  serviette de bain pour vous sÃ©cher aprÃ¨s la doucheÂ Â \nÂ Â Â Â Â Â
  Â Â Â Â Â Â Â Â Â Â Â Â Â Â Â Â Â Â Â Â Â Â Â Â Â Â Â Â Â Â Â Â Â Â Â
  Â Â Â Â Â Â Â Â Â Â Â Â Â Â Â Â Â Â Â Â Â Â  1 serviette de bain en 1
 ,80 mÂ  ou 2 serviettes enÂ  90 cmÂ  pourÂ  le massageÂ  Ã  lâ€™huile\
 nÂ Â Â Â Â Â Â Â Â Â Â Â Â Â Â Â Â Â Â Â Â Â Â Â Â Â Â Â Â Â Â Â Â Â Â
  Â Â Â Â Â Â Â Â Â Â Â Â Â Â Â Â Â Â Â Â Â Â Â  Â Â Â Â  PrÃ©voir un s
 ac plastique pour ramener les serviettes trempÃ©es\nÂ Â Â Â Â Â Â Â Â 
 Â Â Â Â Â Â Â Â Â Â Â Â Â Â Â Â Â Â Â Â Â Â Â Â Â Â Â Â Â Â Â Â Â Â Â 
 Â Â Â Â Â Â Â Â Â Â Â Â Â Â Â Â Â Â Â  Ã‰ventuellement un gant de mass
 age, hamman Â ou autre\nÂ Â Â Â Â Â Â Â Â Â Â Â Â Â Â Â Â Â Â Â Â Â Â 
 Â Â Â Â Â Â Â Â Â Â Â Â Â Â Â Â Â Â Â Â Â Â Â Â Â Â Â Â Â Â Â Â Â Â Â 
 Â Â Â Â Â  Un vÃªtement chaud pour repartir le soir\nÂ \nDiversÂ : Les
  boissons, bougies, encens, coussins et couvertures seront fournis par
 Â  lâ€™associationÂ Â Â \nÂ \nDÃ©roulementÂ : arrivÃ©e entre 14h00 et 
 14h30 au plus tard. Sauna jusque vers 15h30, repos de 30 minutes envir
 on puis massage avec, Ã  la fin vers 18h00, un temps de paroles pour e
 xprimer ce que lâ€™on a vÃ©cu tout au long de cet atelier.Â Â \nÂ \nTa
 rifsÂ : Les possibilitÃ©s sont multiples\n-Â Â Â Â Â Â Â Â Â Â Â Â Â Â
  Â Â Â Â Â Â Â Â Â Â Â Â Â Â Â Â Â Â Â Â Â Â Â Â  Sauna + Massage au c
 ours de lâ€™atelier de lâ€™aprÃ¨s-midiÂ : 20 â‚¬\n-Â Â Â Â Â Â Â Â Â  
 Sauna seul le jour de lâ€™atelier mais avant le dÃ©but de lâ€™atelierÂ
  : 10 â‚¬\n-Â Â Â Â Â Â Â Â Â Â Â Â Â Â Â Â Â Â Â Â Â Â Â Â Â Â Â Â Â 
 Â Â Â Â Â Â Â Â Â  Massage seul le jour de lâ€™atelier et pendant lâ€™
 atelierÂ : 10 â‚¬\n-Â Â Â Â Â Â Â Â Â Â Â Â Â Â Â Â Â Â Â Â Â Â Â Â Â 
 Â Â Â Â Â Â Â Â Â Â Â Â Â  PossibilitÃ© dâ€™organiser un atelier privÃ
 © avec sauna seul ou sauna + massageÂ  pour un petit groupeÂ : prix Ã 
  dÃ©finir (me contacter)\nÂ \nPetit rappelÂ : les ateliers proposÃ©s p
 ar lâ€™association LAMIBONHEUR sont des mÃ©thodes de bien Ãªtre qui ne
  peuventÂ  remplacer votre mÃ©decin traitant ni ses prescriptions.Â \n
 +5â‚¬ pour la cotisation de janvier Ã  dÃ©cembre\n\nPour plus d'inform
 ation, aller sur https://epanews.fr/events/atelier-sauna-massage-intui
 tif-aux-huiles-chaudes
DTSTART;TZID=Europe/Paris:20120115T140000
DTEND;TZID=Europe/Paris:20120115T180000
CATEGORIES:83
LOCATION:TOULON
WEBSITE:
URL:
CONTACT:06 61 91 28 00
ORGANIZER:Patrick MALLET/association lamibonheur
ATTACH;FMTTYPE="image/jpeg":http://storage.ning.com/topology/rest/1.0/
 file/get/1662518845?profile=original
ATTENDEE;ROLE=REQ-PARTICIPANT;PARTSTAT=ACCEPTED;RSVP=TRUE;CN="Patrick 
 MALLET":https://epanews.fr/profile/mallet
ATTENDEE;ROLE=REQ-PARTICIPANT;PARTSTAT=ACCEPTED;RSVP=TRUE;CN=18cathy:h
 ttps://epanews.fr/profile/18cathy
ATTENDEE;ROLE=REQ-PARTICIPANT;PARTSTAT=ACCEPTED;RSVP=TRUE;CN="VIRGINIE
  LE GALL":https://epanews.fr/profile/VirginieLeGall
END:VEVENT
END:VCALENDAR
