BEGIN:VCALENDAR
PRODID:NingEventWidget-v1
VERSION:2.0
METHOD:PUBLISH
BEGIN:VTIMEZONE
TZID:Europe/Paris
X-LIC-LOCATION:Europe/Paris
BEGIN:DAYLIGHT
TZOFFSETFROM:+0100
TZOFFSETTO:+0200
TZNAME:CEST
DTSTART:19700329T020000
RRULE:FREQ=YEARLY;BYMONTH=3;BYDAY=-1SU
END:DAYLIGHT
BEGIN:STANDARD
TZOFFSETFROM:+0200
TZOFFSETTO:+0100
TZNAME:CET
DTSTART:19701025T030000
RRULE:FREQ=YEARLY;BYMONTH=10;BYDAY=-1SU
END:STANDARD
END:VTIMEZONE
BEGIN:VEVENT
UID:2485226:Event:2543908
DTSTAMP:20260421T162841Z
SUMMARY:atelier sauna+massage aux talcs Ã  4 mains
DESCRIPTION:L'association vous propose un atelier de biens Ãªtre.\nA 1
 2h00 accueil avec le verre de l'amitiÃ©Â \nA 12H30 repas ou chacunÂ am
 Ã¨neÂ un plat de son choix Ã  partager l'association offrant la boisso
 n et le couvert. Â \nLe nombre de participants Â est dorÃ©navant limit
 Ã© Ã  8 personnes + l'animateur merci de respecter Â c'est difficileÂ 
 aprÃ¨sÂ pour dire non.\nsi vousÂ ÃªtesÂ 2 merci de mettre un commentai
 re sur la sortie uniquement.Â \nA 14H00 Â l'atelier sauna qui sera sui
 vi vers 15H00 d'une sieste et du massage intuitif en suivant Â /15h45 
 environ .\nLe talc permet beaucoup de douceur et la mainÂ  glisse câ€™
 est un rÃ©gal, le massÃ© peut ressentir une plus grande communication 
 avec lâ€™autreÂ  et nâ€™a pas cette impression de gras dans les cheveu
 x (essayÃ© câ€™est se laisser conquÃ©rir et en retirer des bienfaits m
 ais câ€™est Ã  vous de les dÃ©couvrir)\nPour ceux qui le dÃ©sirent, po
 ssibilitÃ© de ne faire que l'atelier sauna ou massage avec ou sans le 
 repas.Â \nLe massage intuitif est une faÃ§on de nous adapter Ã  ce que
  nous ressentons de la personne massÃ©e. Pour Ãªtre pratiquÃ© au mieux
 , il nÃ©cessite de dÃ©velopper notre capacitÃ© d'Ã©coute et de comprÃ©
 hension de ce que vit l'autre.\nTout le monde peut le pratiquer mais d
 ans un cadre permettant Ã  chacun de sâ€™exprimer dans le respect de s
 oi et de lâ€™autre.\nDans le sauna, la nuditÃ© est la norme, pour les 
 femmes comme pour les hommes. Une serviette est posÃ©e entre le banc e
 t la peau, pour absorber la sueur et pour protÃ©ger la peau de la chal
 eur du bois. Le port d'un maillot de bain est considÃ©rÃ© comme anti-h
 ygiÃ©nique, la chaleur et l'humiditÃ© y favorisant le dÃ©veloppement d
 e germes.\nJe propose une alternative entre le maillot de bains et la 
 nuditÃ©, câ€™est de mettre un parÃ©o ou une serviette autour de la tai
 lle. Le sauna est avant tout un instant de dÃ©tente et de convivialitÃ
 © dans le respect d'une hygiÃ¨ne garantissant le confort et le respect
  de chacun.\nÂ \nTarifÂ : Â Sauna + Massage : 25 â‚¬\nÂ  Â  Â  Â  Â  Â
   Â  Â  Â  Â  Â  Â  Â  Â  Â  Â Â \n- Â  Â  la cotisation 10â‚¬ pour lâ
 €™assurance Ã  lâ€™annÃ©e\nPossibilitÃ© dâ€™organiser un atelier privÃ
 ©Â  sauna + massageÂ  pour un petit groupeÂ  4 personnes minimum: prix
  Ã  dÃ©finir (nous contacter)\nLe repas est gratuit c'est simplement u
 n partage convivialÂ  et tout le monde peut y participer\nChacun est l
 ibre de participer Ã  qu'une partie des activitÃ©s Â \nPetit rappelÂ :
  les ateliers proposÃ©s par lâ€™association Lamibonheur sont des mÃ©th
 odes de bien Ãªtre qui ne peuventÂ  remplacer votre mÃ©decin traitant 
 ni ses prescriptions. Toute participation Ã  cet activitÃ© est sous co
 uvert de votre assurance responsabilitÃ© Civile mÃªme si nous sommes a
 ssurÃ©s pour les adhÃ©rents Ã  jours de la cotisation. Â  Â \nÂ rappel
  si vous dÃ©sirez venir Ã  2 merci de laisser un message dans les comm
 entaires.\n\nPour plus d'information, aller sur https://epanews.fr/eve
 nts/atelier-sauna-massage-aux-talcs-4-mains
DTSTART;TZID=Europe/Paris:20160124T120000
DTEND;TZID=Europe/Paris:20160124T183000
CATEGORIES:83, 13
LOCATION:toulon ouest
WEBSITE:https://www.google.fr/maps/@43.135749,5.902497,17z
URL:https://www.google.fr/maps/@43.135749,5.902497,17z
CONTACT:06 61 91 28 00
ORGANIZER;CN="Patrick MALLET":https://epanews.fr/profile/mallet
ATTACH;FMTTYPE="image/jpeg":http://storage.ning.com/topology/rest/1.0/
 file/get/1662697239?profile=original
ATTENDEE;ROLE=REQ-PARTICIPANT;PARTSTAT=ACCEPTED;RSVP=TRUE;CN="Dame Nat
 ure":https://epanews.fr/profile/DameNature
ATTENDEE;ROLE=REQ-PARTICIPANT;PARTSTAT=ACCEPTED;RSVP=TRUE;CN="Jean-Pie
 rre A.":https://epanews.fr/profile/gipe83
ATTENDEE;ROLE=REQ-PARTICIPANT;PARTSTAT=ACCEPTED;RSVP=TRUE;CN="VIRGINIE
  LE GALL":https://epanews.fr/profile/VirginieLeGall
ATTENDEE;ROLE=REQ-PARTICIPANT;PARTSTAT=ACCEPTED;RSVP=TRUE;CN=18cathy:h
 ttps://epanews.fr/profile/18cathy
ATTENDEE;ROLE=REQ-PARTICIPANT;PARTSTAT=ACCEPTED;RSVP=TRUE;CN="Patrick 
 MALLET":https://epanews.fr/profile/mallet
END:VEVENT
END:VCALENDAR
