BEGIN:VCALENDAR
PRODID:NingEventWidget-v1
VERSION:2.0
METHOD:PUBLISH
BEGIN:VTIMEZONE
TZID:Europe/Paris
X-LIC-LOCATION:Europe/Paris
BEGIN:DAYLIGHT
TZOFFSETFROM:+0100
TZOFFSETTO:+0200
TZNAME:CEST
DTSTART:19700329T020000
RRULE:FREQ=YEARLY;BYMONTH=3;BYDAY=-1SU
END:DAYLIGHT
BEGIN:STANDARD
TZOFFSETFROM:+0200
TZOFFSETTO:+0100
TZNAME:CET
DTSTART:19701025T030000
RRULE:FREQ=YEARLY;BYMONTH=10;BYDAY=-1SU
END:STANDARD
END:VTIMEZONE
BEGIN:VEVENT
UID:2485226:Event:3118722
DTSTAMP:20260423T174602Z
SUMMARY:atelier sauna massage
DESCRIPTION:L'association vous propose un atelier de biens Ãªtre.\nBon
 jour Ã  tous\nAttention pas de repas pour l'instant et lâ€™horaire cha
 nge pour se mettre en conformitÃ© avec la loi de santÃ©, L'atelier dÃ©
 butera Ã  13H/ 13h30Â  et terminera a 18h00. dernier dÃ©lais\n Â Â \nL
 e nombre de participants Â est dorÃ©navant limitÃ© Ã  8 personnes + l'
 animateur merci de respecter Â c'est difficileÂ aprÃ¨sÂ pour dire non.
 \nsi vousÂ ÃªtesÂ 2 merci de mettre un commentaire sur la sortie uniqu
 ement.Â \nTout le monde passe par le sauna afin de rassurer\nL'huile e
 st fourni par l'association mais vous pouvez venir avec la votre.\nPou
 r ceux qui le dÃ©sirent, possibilitÃ© de ne faire que l'atelier sauna 
 ou massage avec ou sans le repas.Â \nLe massage intuitif est une faÃ§o
 n de nous adapter Ã  ce que nous ressentons de la personne massÃ©e. Po
 ur Ãªtre pratiquÃ© au mieux, il nÃ©cessite de dÃ©velopper notre capaci
 tÃ© d'Ã©coute et de comprÃ©hension de ce que vit l'autre.\nTout le mon
 de peut le pratiquer mais dans un cadre permettant Ã  chacun de sâ€™ex
 primer dans le respect de soi et de lâ€™autre. Attention pas de massag
 e du sexe ni des lÃ¨vres.Â \nDans le sauna, la nuditÃ© est la norme, p
 our les femmes comme pour les hommes. Une serviette est posÃ©e entre l
 e banc et la peau, pour absorber la sueur et pour protÃ©ger la peau de
  la chaleur du bois. Le port d'un maillot de bain est considÃ©rÃ© comm
 e anti-hygiÃ©nique, la chaleur et l'humiditÃ© y favorisant le dÃ©velop
 pement de germes.\nJe propose une alternative entre le maillot de bain
 s et la nuditÃ©, câ€™est de mettre un parÃ©o ou une serviette autour d
 e la taille. Le sauna est avant tout un instant de dÃ©tente et de conv
 ivialitÃ© dans le respect d'une hygiÃ¨ne garantissant le confort et le
  respect de chacun.\nÂ \nTarifÂ : Â Sauna + Massage :28â‚¬\nTarif rÃ©d
 uit pour les personnes en difficultÃ©s financiÃ¨re sur demande prÃ©ala
 ble.\nÂ  Â  Â  Â  Â  Â  Â  Â  Â  Â  Â  Â  Â  Â  Â  Â Â \n- Â  Â  la co
 tisation 10â‚¬ pour lâ€™assurance Ã  lâ€™annÃ©e\nPossibilitÃ© dâ€™orga
 niser un atelier privÃ©Â  sauna + massageÂ  pour un petit groupeÂ  4 p
 ersonnes minimum: prix Ã  dÃ©finir (nous contacter)\nLe repas est grat
 uit c'est simplement un partage convivialÂ  et tout le monde peut y pa
 rticiper\nChacun est libre de participer Ã  qu'une partie des activitÃ
 ©s Â \nPetit rappelÂ : les ateliers proposÃ©s par lâ€™association Lami
 bonheur sont des mÃ©thodes de bien Ãªtre qui ne peuventÂ  remplacer vo
 tre mÃ©decin traitant ni ses prescriptions. Toute participation Ã  cet
  activitÃ© est sous couvert de votre assurance responsabilitÃ© Civile 
 mÃªme si nous sommes assurÃ©s pour les adhÃ©rents Ã  jours de la cotis
 ation. Â  Â \nÂ \n\nPour plus d'information, aller sur https://epanews
 .fr/events/atelier-sauna-massage-29
DTSTART;TZID=Europe/Paris:20210530T133000
DTEND;TZID=Europe/Paris:20210530T180000
CATEGORIES:83
LOCATION:toulon ouest
WEBSITE:https://www.google.fr/maps/@43.135749,5.902497,17z
URL:https://www.google.fr/maps/@43.135749,5.902497,17z
CONTACT:06 61 91 28 00
ORGANIZER;CN="Patrick MALLET":https://epanews.fr/profile/mallet
ATTACH;FMTTYPE="image/jpeg":http://storage.ning.com/topology/rest/1.0/
 file/get/1662697239?profile=original
ATTENDEE;ROLE=REQ-PARTICIPANT;PARTSTAT=ACCEPTED;RSVP=TRUE;CN="Patrick 
 MALLET":https://epanews.fr/profile/mallet
END:VEVENT
END:VCALENDAR
