BEGIN:VCALENDAR
PRODID:NingEventWidget-v1
VERSION:2.0
METHOD:PUBLISH
BEGIN:VTIMEZONE
TZID:Europe/Paris
X-LIC-LOCATION:Europe/Paris
BEGIN:DAYLIGHT
TZOFFSETFROM:+0100
TZOFFSETTO:+0200
TZNAME:CEST
DTSTART:19700329T020000
RRULE:FREQ=YEARLY;BYMONTH=3;BYDAY=-1SU
END:DAYLIGHT
BEGIN:STANDARD
TZOFFSETFROM:+0200
TZOFFSETTO:+0100
TZNAME:CET
DTSTART:19701025T030000
RRULE:FREQ=YEARLY;BYMONTH=10;BYDAY=-1SU
END:STANDARD
END:VTIMEZONE
BEGIN:VEVENT
UID:2485226:Event:2479885
DTSTAMP:20260421T082157Z
SUMMARY:atelier Rituels de protection et runes, par Véronique LB
DESCRIPTION:Inscription obligatoire auprès de Source du bonheur au 04
  11 75 16 85 ou 06 77 16 31 11 Participation 80 €  La pause repas s
 era déterminée avec les participants. Le repas sera pris à l'exteri
 eur au gré des participants.  Atelier animé par Véronique,  « Il 
 me tient à cœur d'enseigner ce que je pratique depuis une vingtaine 
 d'années, allant de découverte en découverte enrichissante.Toute qu
 ête spirituelle est sous tendue par des ouvertures et des prises de c
 onscience quotidienne. Ma formation initiale de psychothérapeute (ges
 talt et transpersonnel) sous tend mes pratiques thérapeutiques, par l
 'éthique et l'attention à la personne, en respect de ses croyances, 
 de son être profond et de sa liberté intérieure surtout. »   La Ma
 gie sacrée est l'union de deux volontés, humaine et divine.  *\"La c
 hute avait changé le destin de l'humanité, en ce sens que l'action m
 ystique fut remplacée par la lutte et l'effort\"*  Lors de cet atelie
 r, Véronique vous fera découvrir :  - L’Etude de La lune et les 9
  phases, son influence en amour et destinée. - La roue de l'année di
 visée en huit fêtes. - Comment créer un cercle sacré, évocations 
 et prières des Archanges et élémentaux. - Les Rituels pour bannir l
 es mauvaises habitudes, rituels de protection, Alexandre Moryason ou r
 ituels d'Aset et du petit pentagramme. - Les prières (prière du coeu
 r, Aset divine Mère, Marie qui défait les nœuds ...) - Les Etudes d
 es runes, unique d'après Freya Aswynn, et rituels, Dieux et Déesse C
 eltes.  *d'après Marc louis Questin, traité pratique de magie celte.
   Un chèque d'arrhes de 40 € est à verser pour valider votre inscr
 iption. Ce règlement sera perdu si vous ne vous présentez pas le jou
 r de l'atelier ou en cas de désistement 8 jours avant (sauf cas de fo
 rce majeure sur justificatifs : maladie ou décès d’un proche).  L
 e formulaire d'inscription vous sera envoyé par mail dès confirmatio
 n et sera à nous retourner, accompagné de votre règlement.  En cas 
 d’annulation 48h avant l’évènement, la totalité de la prestatio
 n sera dûe\n\nPour plus d'information, aller sur https://epanews.fr/e
 vents/atelier-rituels-de-protection-et-runes-par-v-ronique-lb-1
DTSTART;TZID=Europe/Paris:20151210T103000
DTEND;TZID=Europe/Paris:20151210T180000
CATEGORIES:34
LOCATION:montpellier centre
WEBSITE:http://www.sourcedubonheur@sfr.fr
URL:http://www.sourcedubonheur@sfr.fr
CONTACT:0411751685
ORGANIZER;CN=sb34:https://epanews.fr/profile/sb34
ATTACH;FMTTYPE="image/jpeg":http://storage.ning.com/topology/rest/1.0/
 file/get/1663455919?profile=original
ATTENDEE;ROLE=REQ-PARTICIPANT;PARTSTAT=ACCEPTED;RSVP=TRUE;CN=sb34:http
 s://epanews.fr/profile/sb34
END:VEVENT
END:VCALENDAR
