BEGIN:VCALENDAR
PRODID:NingEventWidget-v1
VERSION:2.0
METHOD:PUBLISH
BEGIN:VTIMEZONE
TZID:Europe/Paris
X-LIC-LOCATION:Europe/Paris
BEGIN:DAYLIGHT
TZOFFSETFROM:+0100
TZOFFSETTO:+0200
TZNAME:CEST
DTSTART:19700329T020000
RRULE:FREQ=YEARLY;BYMONTH=3;BYDAY=-1SU
END:DAYLIGHT
BEGIN:STANDARD
TZOFFSETFROM:+0200
TZOFFSETTO:+0100
TZNAME:CET
DTSTART:19701025T030000
RRULE:FREQ=YEARLY;BYMONTH=10;BYDAY=-1SU
END:STANDARD
END:VTIMEZONE
BEGIN:VEVENT
UID:2485226:Event:2087896
DTSTAMP:20260422T104806Z
SUMMARY:Atelier Revitalisation : 30 mai 2015 Montpellier
DESCRIPTION:Une journée pour se faire du bien...  \nAu cours de cett
 e journée dédiée à votre bien être, nous verrons les Automassages
  (Mains, Visage, Pieds) : remise d'un fascicule récapitulatif à la f
 in du stage, pour être autonome dans cette pratique millénaire !\nLa
  pratique debout en mouvement de Qigong, avec les 8 pièces de brocard
  et les 11 exercices chinois de santé, alternera avec des techniques 
 énergétiques de bien être pratiquées aux sol.\nPendant la pause de
  midi où nous partagerons le repas tiré du sac, ce sera l'occasion d
 e faire une séance d'essai des Ondes Vives de Vlady Stévanovitch...\
 nle samedi de 10h à 17h30 (repas tiré du sac)11 octobre 2014 - 24 ja
 nvier 2015 - 28 février 2015 - 28 mars 2015ouvert à tous !\n\nLieu :
  Montpellier au CREPS 2 av. Charles Flahautsamedi 4 avril 2015 de 10h 
 à 17h30 (repas tiré du sac)Ouvert à tous !\n\nTarifs : 60 € / ate
 lier  (forfait 3 ateliers : 150 €) Adhésion à l'association : 10 
 €\n\nPour plus d'information, aller sur https://epanews.fr/events/at
 elier-revitalisation-30-mai-2015-montpellier
DTSTART;TZID=Europe/Paris:20150530T100000
DTEND;TZID=Europe/Paris:20150530T173000
CATEGORIES:34
LOCATION:Montpellier
WEBSITE:http://www.taiji-aude.Fr
URL:http://www.taiji-aude.Fr
CONTACT:0604136396
ORGANIZER;CN=TOUBA:https://epanews.fr/profile/TOUBA
ATTACH;FMTTYPE="image/jpeg":http://storage.ning.com/topology/rest/1.0/
 file/get/1663238328?profile=original
ATTENDEE;ROLE=REQ-PARTICIPANT;PARTSTAT=ACCEPTED;RSVP=TRUE;CN=TOUBA:htt
 ps://epanews.fr/profile/TOUBA
END:VEVENT
END:VCALENDAR
