BEGIN:VCALENDAR
PRODID:NingEventWidget-v1
VERSION:2.0
METHOD:PUBLISH
BEGIN:VTIMEZONE
TZID:Europe/Paris
X-LIC-LOCATION:Europe/Paris
BEGIN:DAYLIGHT
TZOFFSETFROM:+0100
TZOFFSETTO:+0200
TZNAME:CEST
DTSTART:19700329T020000
RRULE:FREQ=YEARLY;BYMONTH=3;BYDAY=-1SU
END:DAYLIGHT
BEGIN:STANDARD
TZOFFSETFROM:+0200
TZOFFSETTO:+0100
TZNAME:CET
DTSTART:19701025T030000
RRULE:FREQ=YEARLY;BYMONTH=10;BYDAY=-1SU
END:STANDARD
END:VTIMEZONE
BEGIN:VEVENT
UID:2485226:Event:2087887
DTSTAMP:20260422T141025Z
SUMMARY:Atelier Respirer avec aisance : 17 janv. 2015 Montpellier
DESCRIPTION:Nous vous proposons d'explorer cette fonction vitale, dont
  on oublie trop souvent l'inÃ©puisable la richesse, par des exercices 
 corporels Ã©nergÃ©tiques issus du Qi Gong et du TaÃ¯ Chi Chuan. Dans l
 a mesure du possible (selon la mÃ©tÃ©o !), nous pratiquerons Ã  l'extÃ
 ©rieur.\nÂ \nLieu : Montpellier au CREPS 2 av. Charles Flahaut samedi 
 17 janvier 2015 de 10h Ã  17h30 (repas tirÃ© du sac) Ouvert Ã  tous !\
 nTarifs : 60 â‚¬ / atelierÂ  (forfait 3 ateliers : 150 â‚¬) AdhÃ©sion 
 Ã  l'association : 10 â‚¬\n\nPour plus d'information, aller sur https:
 //epanews.fr/events/atelier-respirer-avec-aisance-17-janv-2015-montpel
 lier
DTSTART;TZID=Europe/Paris:20150117T100000
DTEND;TZID=Europe/Paris:20150117T173000
CATEGORIES:34
LOCATION:Montpellier
WEBSITE:http://www.taiji-aude.Fr
URL:http://www.taiji-aude.Fr
CONTACT:0604136396
ORGANIZER;CN=TOUBA:https://epanews.fr/profile/TOUBA
ATTACH;FMTTYPE="image/jpeg":http://storage.ning.com/topology/rest/1.0/
 file/get/1663238357?profile=original
ATTENDEE;ROLE=REQ-PARTICIPANT;PARTSTAT=ACCEPTED;RSVP=TRUE;CN=TOUBA:htt
 ps://epanews.fr/profile/TOUBA
END:VEVENT
END:VCALENDAR
