BEGIN:VCALENDAR
PRODID:NingEventWidget-v1
VERSION:2.0
METHOD:PUBLISH
BEGIN:VTIMEZONE
TZID:Europe/Paris
X-LIC-LOCATION:Europe/Paris
BEGIN:DAYLIGHT
TZOFFSETFROM:+0100
TZOFFSETTO:+0200
TZNAME:CEST
DTSTART:19700329T020000
RRULE:FREQ=YEARLY;BYMONTH=3;BYDAY=-1SU
END:DAYLIGHT
BEGIN:STANDARD
TZOFFSETFROM:+0200
TZOFFSETTO:+0100
TZNAME:CET
DTSTART:19701025T030000
RRULE:FREQ=YEARLY;BYMONTH=10;BYDAY=-1SU
END:STANDARD
END:VTIMEZONE
BEGIN:VEVENT
UID:2485226:Event:827559
DTSTAMP:20260421T130431Z
SUMMARY:Modification demandÃ©e
DESCRIPTION:Vous voulez changer d'alimentation mais ne savez pas comme
 nt faire ? pourquoi ne pas apprendre en prÃ©parant votre repas et en l
 e dÃ©gustant ensuite ? \n\nVous dÃ©couvrirez comment Ã©laborer un repa
 s complet, Ã©quilibrÃ© et digeste...\nÂ Tout au long de la prÃ©paratio
 n du repas, vous apprendrez quels sont les aliments nÃ©cessaires pour 
 nous nourrir correctement au dÃ©jeuner, avec plaisir et lÃ©gÃ¨retÃ© !\
 nNous prÃ©parerons le menu suivant :\nÂ - cruditÃ©s savoureuses pour Ã
 ©veiller notre palais, - tajine aux lÃ©gumes et fruits secs, accompagn
 Ã© de cÃ©rÃ©ales,\n- dessert savoureux et lÃ©ger.\nTous les produits c
 uisinÃ©s sont des produits issus de l'agriculture biologique.\nRepas s
 ans gluten et sans lactose. \n\nTarif pour le cours de cuisine et la f
 ourniture du repas (repas complet + vin rouge bio) : 35 euros. \n\nINS
 CRIPTION AUPRES de GaÃ«lle DEVIC - 06 31 23 37 80.\nÂ Nombre de places
  limitÃ© Ã  12 personnes.\n\n\nPour plus d'information, aller sur http
 s://epanews.fr/events/atelier-repas-le-d-jeuner-id-al-aix-en-provence-
 2-juin-2012-11-h
DTSTART;TZID=Europe/Paris:20120523T180000
DTEND;TZID=Europe/Paris:20120523T190000
CATEGORIES:13
LOCATION:AIX EN PROVENCE
WEBSITE:http://www.evelynekasbarian.fr/
URL:http://www.evelynekasbarian.fr/
CONTACT:06 31 23 37 80
ORGANIZER;CN="Evelyne Kasbarian":https://epanews.fr/profile/EvelyneKas
 barian
ATTACH;FMTTYPE="image/jpeg":http://storage.ning.com/topology/rest/1.0/
 file/get/1662612394?profile=original
ATTENDEE;ROLE=REQ-PARTICIPANT;PARTSTAT=ACCEPTED;RSVP=TRUE;CN="Evelyne 
 Kasbarian":https://epanews.fr/profile/EvelyneKasbarian
END:VEVENT
END:VCALENDAR
