BEGIN:VCALENDAR
PRODID:NingEventWidget-v1
VERSION:2.0
METHOD:PUBLISH
BEGIN:VTIMEZONE
TZID:Europe/Paris
X-LIC-LOCATION:Europe/Paris
BEGIN:DAYLIGHT
TZOFFSETFROM:+0100
TZOFFSETTO:+0200
TZNAME:CEST
DTSTART:19700329T020000
RRULE:FREQ=YEARLY;BYMONTH=3;BYDAY=-1SU
END:DAYLIGHT
BEGIN:STANDARD
TZOFFSETFROM:+0200
TZOFFSETTO:+0100
TZNAME:CET
DTSTART:19701025T030000
RRULE:FREQ=YEARLY;BYMONTH=10;BYDAY=-1SU
END:STANDARD
END:VTIMEZONE
BEGIN:VEVENT
UID:2485226:Event:2575626
DTSTAMP:20260422T180102Z
SUMMARY:atelier relaxation
DESCRIPTION:           \nStop au stress, je prends ma santé
  en mains et je donne le meilleur de moi-même\nVenez goûter le plais
 ir d'un moment de détente et de bien-être, rien que pour vous \nJe v
 ous propose un atelier-découverte \"relaxation/visualisation\",\nd'en
 viron 45 minutes\nAtelier gratuit\nSe munir d'un plaid \n\nPour plus d
 'information, aller sur https://epanews.fr/events/atelier-relaxation-8
DTSTART;TZID=Europe/Paris:20160322T180000
DTEND;TZID=Europe/Paris:20160322T190000
CATEGORIES:34
LOCATION:montpellier
WEBSITE:http://Quartier Celleneuve
URL:http://Quartier Celleneuve
CONTACT:06 81 42 04 14
ORGANIZER;CN=Lysliane:https://epanews.fr/profile/Lysliane97
ATTACH;FMTTYPE="image/jpeg":
ATTENDEE;ROLE=REQ-PARTICIPANT;PARTSTAT=ACCEPTED;RSVP=TRUE;CN=Lysliane:
 https://epanews.fr/profile/Lysliane97
END:VEVENT
END:VCALENDAR
