BEGIN:VCALENDAR
PRODID:NingEventWidget-v1
VERSION:2.0
METHOD:PUBLISH
BEGIN:VTIMEZONE
TZID:Europe/Paris
X-LIC-LOCATION:Europe/Paris
BEGIN:DAYLIGHT
TZOFFSETFROM:+0100
TZOFFSETTO:+0200
TZNAME:CEST
DTSTART:19700329T020000
RRULE:FREQ=YEARLY;BYMONTH=3;BYDAY=-1SU
END:DAYLIGHT
BEGIN:STANDARD
TZOFFSETFROM:+0200
TZOFFSETTO:+0100
TZNAME:CET
DTSTART:19701025T030000
RRULE:FREQ=YEARLY;BYMONTH=10;BYDAY=-1SU
END:STANDARD
END:VTIMEZONE
BEGIN:VEVENT
UID:2485226:Event:2259235
DTSTAMP:20260423T014932Z
SUMMARY:Relation à soi, Relation à l'autre
DESCRIPTION:Tout est relation, avec soi, l'autre, le monde, la vie. Ve
 nez vivre deux jours pour expérimenter une nouvelle façon d'être en
  relation et de se sentir plus vivant: un peu de théorie, beaucoup d'
 exercices et de partages, dans un lieu magnifique, à Etoile sur Rhôn
 e (26). Inspirés des enseignements de R.Moss, C.G.Jung, la CNV, la PN
 L, l'Ennéagramme, c'est le fruit de mon expérience que je propose de
  partager avec vous.\nPour tous renseignements et inscriptions, contac
 tez-moi à: isdepenf@gmail.com\n\nPour plus d'information, aller sur h
 ttps://epanews.fr/events/atelier-relation-a-soi-relation-a-l-autre
DTSTART;TZID=Europe/Paris:20150612T100000
DTEND;TZID=Europe/Paris:20150613T180000
CATEGORIES:26
LOCATION:Etoile s/Rhône (26)
WEBSITE:
URL:
CONTACT:
ORGANIZER;CN="Isabelle de Penfentenyo":https://epanews.fr/profile/Isab
 elledePenfentenyo
ATTACH;FMTTYPE="image/jpeg":http://storage.ning.com/topology/rest/1.0/
 file/get/1663349529?profile=original
ATTENDEE;ROLE=REQ-PARTICIPANT;PARTSTAT=ACCEPTED;RSVP=TRUE;CN="Isabelle
  de Penfentenyo":https://epanews.fr/profile/IsabelledePenfentenyo
END:VEVENT
END:VCALENDAR
