BEGIN:VCALENDAR
PRODID:NingEventWidget-v1
VERSION:2.0
METHOD:PUBLISH
BEGIN:VTIMEZONE
TZID:Europe/Paris
X-LIC-LOCATION:Europe/Paris
BEGIN:DAYLIGHT
TZOFFSETFROM:+0100
TZOFFSETTO:+0200
TZNAME:CEST
DTSTART:19700329T020000
RRULE:FREQ=YEARLY;BYMONTH=3;BYDAY=-1SU
END:DAYLIGHT
BEGIN:STANDARD
TZOFFSETFROM:+0200
TZOFFSETTO:+0100
TZNAME:CET
DTSTART:19701025T030000
RRULE:FREQ=YEARLY;BYMONTH=10;BYDAY=-1SU
END:STANDARD
END:VTIMEZONE
BEGIN:VEVENT
UID:2485226:Event:1876373
DTSTAMP:20260421T213150Z
SUMMARY:Atelier Reiki Usui: partage / découverte / méditation
DESCRIPTION:ÉVÉNEMENT COMPLET.Merci de me contacter pour la date de 
 mai.\n. Bonjour,\nJe vous propose de mettre à l’œuvre votre belle 
 Énergie Reiki. Méditation et pratique (découverte pour les nouveau)
  Soins complet. 8 personnes maximum. Participation de 8 € pour frais
  de location de salle.  Alors à bientôt pour un moment Zen et joyeu
 x ensemble.\nPour plus de renseignement, merci de m'appeler au 06-23-0
 3-07-07.\n\nPour plus d'information, aller sur https://epanews.fr/even
 ts/atelier-reiki-usui-partage-d-couverte-m-ditation
DTSTART;TZID=Europe/Paris:20140427T140000
DTEND;TZID=Europe/Paris:20140427T170000
CATEGORIES:75
LOCATION:ESPACE OSADA
WEBSITE:http://www.espaceosada.fr/activites/energetique/orida-boukheze
 r/
URL:http://www.espaceosada.fr/activites/energetique/orida-boukhezer/
CONTACT:06-23-03-07-07
ORGANIZER;CN="Orida Ameureuse":https://epanews.fr/profile/OridaAmeureu
 se
ATTACH;FMTTYPE="image/jpeg":http://storage.ning.com/topology/rest/1.0/
 file/get/1663112656?profile=original
ATTENDEE;ROLE=REQ-PARTICIPANT;PARTSTAT=ACCEPTED;RSVP=TRUE;CN="Orida Am
 eureuse":https://epanews.fr/profile/OridaAmeureuse
END:VEVENT
END:VCALENDAR
