BEGIN:VCALENDAR
PRODID:NingEventWidget-v1
VERSION:2.0
METHOD:PUBLISH
BEGIN:VTIMEZONE
TZID:Europe/Paris
X-LIC-LOCATION:Europe/Paris
BEGIN:DAYLIGHT
TZOFFSETFROM:+0100
TZOFFSETTO:+0200
TZNAME:CEST
DTSTART:19700329T020000
RRULE:FREQ=YEARLY;BYMONTH=3;BYDAY=-1SU
END:DAYLIGHT
BEGIN:STANDARD
TZOFFSETFROM:+0200
TZOFFSETTO:+0100
TZNAME:CET
DTSTART:19701025T030000
RRULE:FREQ=YEARLY;BYMONTH=10;BYDAY=-1SU
END:STANDARD
END:VTIMEZONE
BEGIN:VEVENT
UID:2485226:Event:199305
DTSTAMP:20260420T173730Z
SUMMARY:Atelier reiki et échanges 
DESCRIPTION:Dans le cadre d'un partage de nos expériences dans le dom
 aine du reiki , nous pratiquons des échanges de soins .\nCela peut ê
 tre aussi un moyen pour ceux qui souhaitent connaitre le reiki de prof
 iter d'un soin découverte.\n \nEntièrement gratuit. 06.82.38.12.11 
 pour plus de renseignements\n\nPour plus d'information, aller sur http
 s://epanews.fr/events/atelier-reiki-et-echanges
DTSTART;TZID=Europe/Paris:20110204T203000
DTEND;TZID=Europe/Paris:20110204T223000
CATEGORIES:04
LOCATION:Digne Les Bains 
WEBSITE:
URL:
CONTACT:0682381211
ORGANIZER;CN="Nicole FOURCADE":https://epanews.fr/profile/Lhamo
ATTACH;FMTTYPE="image/jpeg":http://storage.ning.com/topology/rest/1.0/
 file/get/1662382851?profile=original
ATTENDEE;ROLE=REQ-PARTICIPANT;PARTSTAT=ACCEPTED;RSVP=TRUE;CN="Nicole F
 OURCADE":https://epanews.fr/profile/Lhamo
END:VEVENT
END:VCALENDAR
