BEGIN:VCALENDAR
PRODID:NingEventWidget-v1
VERSION:2.0
METHOD:PUBLISH
BEGIN:VTIMEZONE
TZID:Europe/Paris
X-LIC-LOCATION:Europe/Paris
BEGIN:DAYLIGHT
TZOFFSETFROM:+0100
TZOFFSETTO:+0200
TZNAME:CEST
DTSTART:19700329T020000
RRULE:FREQ=YEARLY;BYMONTH=3;BYDAY=-1SU
END:DAYLIGHT
BEGIN:STANDARD
TZOFFSETFROM:+0200
TZOFFSETTO:+0100
TZNAME:CET
DTSTART:19701025T030000
RRULE:FREQ=YEARLY;BYMONTH=10;BYDAY=-1SU
END:STANDARD
END:VTIMEZONE
BEGIN:VEVENT
UID:2485226:Event:1153377
DTSTAMP:20260419T213432Z
SUMMARY:Atelier Reiki
DESCRIPTION:ATELIER REIKI 10h00/12h00\nRÃ©servÃ© aux praticiens de rei
 ki\nDurÃ©e: 2h00\nPublic concernÃ©:\nToutes personnes ayant dÃ©jÃ  obt
 enu un degrÃ© de reiki, tous niveaux confondus.\nBut:\nEchange de soin
 s. (Vous donnerez et recevrez un soin reiki en groupe ou deux par deux
  selon le nombre).\nApprofondissement de votre pratique (RÃ©vision pra
 tique: Positions, soin mental, lissage de l'aura...)\nRÃ©vision thÃ©or
 ique (Si vous avez des questions sur le reiki, sur l'Ã©nergÃ©tique, su
 r une difficultÃ© particuliÃ¨re ou personnelle...)\nMoment agrÃ©able d
 e dÃ©tente, de partage qui vous permettra de pratiquer si vous n'avez 
 pas la possibilitÃ© d'effectuer des soins autour de vous, par exemple.
  Cet atelier vous donnera aussi la possibilitÃ© de prendre soin de vou
 s, puisque vous recevrez aussi un soin.\nDonc si vous avez envie de pa
 rtager avec moi ce moment ainsi qu'avec le groupe, dans la joie, la bo
 nne humeur, vous pouvez vous inscrire. A bientÃ´t. Christelle.\nTARIFÂ
  : 10Â euros\nLafont Christelle\nPraticienne et maÃ®tre enseignante Re
 iki\nReiki Usui, tibÃ©tain, karuna\nInfirmiÃ¨re diplÃ´mÃ©e d'Ã©tat\n06
 .43.51.48.97Â Â Â  WWW.energieaude.com\n\nPour plus d'information, all
 er sur https://epanews.fr/events/atelier-reiki-2
DTSTART;TZID=Europe/Paris:20130216T100000
DTEND;TZID=Europe/Paris:20130216T120000
CATEGORIES:34
LOCATION:Montpellier
WEBSITE:http://www.energieaude.com
URL:http://www.energieaude.com
CONTACT:06.43.51.48.97
ORGANIZER;CN=Reikielle:https://epanews.fr/profile/Lafont715
ATTACH;FMTTYPE="image/jpeg":http://storage.ning.com/topology/rest/1.0/
 file/get/1662751954?profile=original
ATTENDEE;ROLE=REQ-PARTICIPANT;PARTSTAT=ACCEPTED;RSVP=TRUE;CN=Reikielle
 :https://epanews.fr/profile/Lafont715
END:VEVENT
END:VCALENDAR
