BEGIN:VCALENDAR
PRODID:NingEventWidget-v1
VERSION:2.0
METHOD:PUBLISH
BEGIN:VTIMEZONE
TZID:Europe/Paris
X-LIC-LOCATION:Europe/Paris
BEGIN:DAYLIGHT
TZOFFSETFROM:+0100
TZOFFSETTO:+0200
TZNAME:CEST
DTSTART:19700329T020000
RRULE:FREQ=YEARLY;BYMONTH=3;BYDAY=-1SU
END:DAYLIGHT
BEGIN:STANDARD
TZOFFSETFROM:+0200
TZOFFSETTO:+0100
TZNAME:CET
DTSTART:19701025T030000
RRULE:FREQ=YEARLY;BYMONTH=10;BYDAY=-1SU
END:STANDARD
END:VTIMEZONE
BEGIN:VEVENT
UID:2485226:Event:1363390
DTSTAMP:20260421T155525Z
SUMMARY:Atelier révision Reiki 1er degré
DESCRIPTION:Cet atelier s'adresse aux personnes initiées au premier d
 egré, qui souhaitent faire une remise à niveau de leur pratique.\npo
 ur en savoir plus : http://www.energetique-et-bien-etre.fr/agenda/ate
 lier/atelier-revision-reiki-1er-degre.html\n\nPour plus d'information,
  aller sur https://epanews.fr/events/atelier-r-vision-reiki-1er-degr
DTSTART;TZID=Europe/Paris:20130525T093000
DTEND;TZID=Europe/Paris:20130525T193000
CATEGORIES:83
LOCATION:SAINT-ANTONIN DU VAR
WEBSITE:
URL:
CONTACT:
ORGANIZER;CN="RUBY Marie-José":https://epanews.fr/profile/RUBYMarieJo
 se
ATTACH;FMTTYPE="image/jpeg":http://storage.ning.com/topology/rest/1.0/
 file/get/1662837149?profile=original
ATTENDEE;ROLE=REQ-PARTICIPANT;PARTSTAT=ACCEPTED;RSVP=TRUE;CN="RUBY Mar
 ie-José":https://epanews.fr/profile/RUBYMarieJose
END:VEVENT
END:VCALENDAR
