BEGIN:VCALENDAR
PRODID:NingEventWidget-v1
VERSION:2.0
METHOD:PUBLISH
BEGIN:VTIMEZONE
TZID:Europe/Paris
X-LIC-LOCATION:Europe/Paris
BEGIN:DAYLIGHT
TZOFFSETFROM:+0100
TZOFFSETTO:+0200
TZNAME:CEST
DTSTART:19700329T020000
RRULE:FREQ=YEARLY;BYMONTH=3;BYDAY=-1SU
END:DAYLIGHT
BEGIN:STANDARD
TZOFFSETFROM:+0200
TZOFFSETTO:+0100
TZNAME:CET
DTSTART:19701025T030000
RRULE:FREQ=YEARLY;BYMONTH=10;BYDAY=-1SU
END:STANDARD
END:VTIMEZONE
BEGIN:VEVENT
UID:2485226:Event:2610677
DTSTAMP:20260421T184309Z
SUMMARY:Atelier rêve éveillé
DESCRIPTION:Toutes les informations sur l'affiche ci-jointe, merci.\n\
 nPour plus d'information, aller sur https://epanews.fr/events/atelier-
 r-ve-veill
DTSTART;TZID=Europe/Paris:20160416T133000
DTEND;TZID=Europe/Paris:20160416T173000
CATEGORIES:38
LOCATION:St Hilaire de la Côte
WEBSITE:http://www.lesjoyauxsacres.com
URL:http://www.lesjoyauxsacres.com
CONTACT:
ORGANIZER;CN=Amalia:https://epanews.fr/profile/Amalia110
ATTACH;FMTTYPE="image/jpeg":http://storage.ning.com/topology/rest/1.0/
 file/get/1663547157?profile=original
ATTENDEE;ROLE=REQ-PARTICIPANT;PARTSTAT=ACCEPTED;RSVP=TRUE;CN=Amalia:ht
 tps://epanews.fr/profile/Amalia110
END:VEVENT
END:VCALENDAR
