BEGIN:VCALENDAR
PRODID:NingEventWidget-v1
VERSION:2.0
METHOD:PUBLISH
BEGIN:VTIMEZONE
TZID:Europe/Paris
X-LIC-LOCATION:Europe/Paris
BEGIN:DAYLIGHT
TZOFFSETFROM:+0100
TZOFFSETTO:+0200
TZNAME:CEST
DTSTART:19700329T020000
RRULE:FREQ=YEARLY;BYMONTH=3;BYDAY=-1SU
END:DAYLIGHT
BEGIN:STANDARD
TZOFFSETFROM:+0200
TZOFFSETTO:+0100
TZNAME:CET
DTSTART:19701025T030000
RRULE:FREQ=YEARLY;BYMONTH=10;BYDAY=-1SU
END:STANDARD
END:VTIMEZONE
BEGIN:VEVENT
UID:2485226:Event:1447185
DTSTAMP:20260420T004025Z
SUMMARY:atelier réparation du coeur!
DESCRIPTION:Atelier réparation du coeur,qui n'a pas eu une séparatio
 n ou des séparations douloureuses,dans cette atelier vous apprendrez 
 à décoder ce qui vous bloque pour avancer vers une nouvelle rencontr
 e.\nApprendre à comprendre ce qui bloque pour faire une nouvelle renc
 ontre.\nApprendre à s'aimer et a se pardonner.\nDécodage et libérat
 ion des blocages .\n\nPour plus d'information, aller sur https://epane
 ws.fr/events/atelier-r-paration-du-coeur
DTSTART;TZID=Europe/Paris:20130914T213000
DTEND;TZID=Europe/Paris:20130915T190000
CATEGORIES:06
LOCATION:Nice
WEBSITE:http://www.voyance-directe-06.com
URL:http://www.voyance-directe-06.com
CONTACT:0698091791
ORGANIZER;CN="Aimee Soleil":https://epanews.fr/profile/AimeeSoleil
ATTACH;FMTTYPE="image/jpeg":
ATTENDEE;ROLE=REQ-PARTICIPANT;PARTSTAT=ACCEPTED;RSVP=TRUE;CN="Aimee So
 leil":https://epanews.fr/profile/AimeeSoleil
END:VEVENT
END:VCALENDAR
